BEGIN:VCALENDAR
VERSION:2.0
PRODID:-//Carolinas PGA Section - ECPv6.15.20//NONSGML v1.0//EN
CALSCALE:GREGORIAN
METHOD:PUBLISH
X-WR-CALNAME:Carolinas PGA Section
X-ORIGINAL-URL:https://carolinas.pga.com
X-WR-CALDESC:Events for Carolinas PGA Section
REFRESH-INTERVAL;VALUE=DURATION:PT1H
X-Robots-Tag:noindex
X-PUBLISHED-TTL:PT1H
BEGIN:VTIMEZONE
TZID:UTC
BEGIN:STANDARD
TZOFFSETFROM:+0000
TZOFFSETTO:+0000
TZNAME:UTC
DTSTART:20180101T000000
END:STANDARD
END:VTIMEZONE
BEGIN:VEVENT
DTSTART;VALUE=DATE:20251013
DTEND;VALUE=DATE:20251014
DTSTAMP:20260421T195712
CREATED:20250107T213208Z
LAST-MODIFIED:20250107T213208Z
UID:10000693-1760313600-1760399999@carolinas.pga.com
SUMMARY:Timberlake Country Club Pro-Lady
DESCRIPTION:Monday\, October 13th\, 2025\nTimberlake CC – Chapin\, SC\nContact the Club: (803)-345-9909
URL:https://carolinas.pga.com/event/timberlake-country-club-pro-lady-4/
LOCATION:Timberlake Country Club\, 222 Timberlake Dr\, Chapin\, SC\, 29036\, United States
CATEGORIES:Pro-Am
ATTACH;FMTTYPE=image/png:https://carolinas.pga.com/wp-content/uploads/sites/3/2019/02/Timberlake-CC-1.png
GEO:34.0800951;-81.3705532
X-APPLE-STRUCTURED-LOCATION;VALUE=URI;X-ADDRESS=Timberlake Country Club 222 Timberlake Dr Chapin SC 29036 United States;X-APPLE-RADIUS=500;X-TITLE=222 Timberlake Dr:geo:-81.3705532,34.0800951
END:VEVENT
BEGIN:VEVENT
DTSTART;VALUE=DATE:20241104
DTEND;VALUE=DATE:20241105
DTSTAMP:20260421T195712
CREATED:20240509T130340Z
LAST-MODIFIED:20240718T092029Z
UID:10000625-1730678400-1730764799@carolinas.pga.com
SUMMARY:Timberlake Country Club Pro-Lady
DESCRIPTION:Monday\, November 4th\, 2024\nTimberlake CC – Chapin\, SC\nHost Professional: Jimmy Koosa\, PGA\n803-345-9909
URL:https://carolinas.pga.com/event/timberlake-country-club-pro-lady-3/
LOCATION:Timberlake Country Club\, 222 Timberlake Dr\, Chapin\, SC\, 29036\, United States
CATEGORIES:Pro-Am
ATTACH;FMTTYPE=image/png:https://carolinas.pga.com/wp-content/uploads/sites/3/2019/02/Timberlake-CC-1.png
GEO:34.0800951;-81.3705532
X-APPLE-STRUCTURED-LOCATION;VALUE=URI;X-ADDRESS=Timberlake Country Club 222 Timberlake Dr Chapin SC 29036 United States;X-APPLE-RADIUS=500;X-TITLE=222 Timberlake Dr:geo:-81.3705532,34.0800951
END:VEVENT
BEGIN:VEVENT
DTSTART;VALUE=DATE:20231004
DTEND;VALUE=DATE:20231005
DTSTAMP:20260421T195712
CREATED:20230323T200522Z
LAST-MODIFIED:20240718T091054Z
UID:10000576-1696377600-1696463999@carolinas.pga.com
SUMMARY:Timberlake Country Club Pro-Lady
DESCRIPTION:Wednesday\, October 4th\, 2023\nTimberlake CC – Chapin\, SC\nEntry Fee: $125 Professionals\, $100 Amateurs\nAmateurs to Bring: 3\n9:30 AM Shotgun \nLunch and Dinner included \n4 Person Texas Scramble with a Low Professional Score \nHost Professional: Craig Malone\, PGA.\n803-345-9909 Ext.14 \n\n\n\n\n\nRegistration Form
URL:https://carolinas.pga.com/event/timberlake-country-club-pro-lady-2-2/
LOCATION:Timberlake Country Club\, 222 Timberlake Dr\, Chapin\, SC\, 29036\, United States
CATEGORIES:Pro-Am
ATTACH;FMTTYPE=image/png:https://carolinas.pga.com/wp-content/uploads/sites/3/2019/02/Timberlake-CC-1.png
GEO:34.0800951;-81.3705532
X-APPLE-STRUCTURED-LOCATION;VALUE=URI;X-ADDRESS=Timberlake Country Club 222 Timberlake Dr Chapin SC 29036 United States;X-APPLE-RADIUS=500;X-TITLE=222 Timberlake Dr:geo:-81.3705532,34.0800951
END:VEVENT
BEGIN:VEVENT
DTSTART;VALUE=DATE:20221003
DTEND;VALUE=DATE:20221004
DTSTAMP:20260421T195712
CREATED:20220818T205818Z
LAST-MODIFIED:20240718T085644Z
UID:10000508-1664755200-1664841599@carolinas.pga.com
SUMMARY:Timberlake Country Club Pro-Lady
DESCRIPTION:Monday\, October 3rd\, 2022\nTimberlake CC – Chapin\, SC\nEntry Fee: $125 Professionals\, $100 Amateurs\nAmateurs to Bring: 3\n10:00 AM Shotgun \nLunch and Dinner included \n4 Person Texas Scramble with a Low Professional Score \nHost Professional: Steven Hartwig\, PGA.\nEmail: twig9656@gmail.com\n803-513-9656
URL:https://carolinas.pga.com/event/timberlake-country-club-pro-lady-2/
LOCATION:Timberlake Country Club\, 222 Timberlake Dr\, Chapin\, SC\, 29036\, United States
CATEGORIES:Pro-Am
ATTACH;FMTTYPE=image/png:https://carolinas.pga.com/wp-content/uploads/sites/3/2019/02/Timberlake-CC-1.png
GEO:34.0800951;-81.3705532
X-APPLE-STRUCTURED-LOCATION;VALUE=URI;X-ADDRESS=Timberlake Country Club 222 Timberlake Dr Chapin SC 29036 United States;X-APPLE-RADIUS=500;X-TITLE=222 Timberlake Dr:geo:-81.3705532,34.0800951
END:VEVENT
BEGIN:VEVENT
DTSTART;VALUE=DATE:20191104
DTEND;VALUE=DATE:20191105
DTSTAMP:20260421T195712
CREATED:20190212T210041Z
LAST-MODIFIED:20240718T073600Z
UID:10000118-1572825600-1572911999@carolinas.pga.com
SUMMARY:Timberlake Country Club Pro-Lady
DESCRIPTION:Monday\, November 4\, 2019\nTimberlake CC – Chapin\, SC\nHost Professional: Mike Arthur\, PGA.\nEmail: golfpro@timberlakecountryclub.com
URL:https://carolinas.pga.com/event/timberlake-country-club-pro-lady/
LOCATION:Timberlake Country Club\, 222 Timberlake Dr\, Chapin\, SC\, 29036\, United States
CATEGORIES:Pro-Am
ATTACH;FMTTYPE=image/png:https://carolinas.pga.com/wp-content/uploads/sites/3/2019/02/Timberlake-CC-1.png
GEO:34.0800951;-81.3705532
X-APPLE-STRUCTURED-LOCATION;VALUE=URI;X-ADDRESS=Timberlake Country Club 222 Timberlake Dr Chapin SC 29036 United States;X-APPLE-RADIUS=500;X-TITLE=222 Timberlake Dr:geo:-81.3705532,34.0800951
END:VEVENT
END:VCALENDAR