BEGIN:VCALENDAR
VERSION:2.0
PRODID:-//Carolinas PGA Section - ECPv6.15.20//NONSGML v1.0//EN
CALSCALE:GREGORIAN
METHOD:PUBLISH
X-ORIGINAL-URL:https://carolinas.pga.com
X-WR-CALDESC:Events for Carolinas PGA Section
REFRESH-INTERVAL;VALUE=DURATION:PT1H
X-Robots-Tag:noindex
X-PUBLISHED-TTL:PT1H
BEGIN:VTIMEZONE
TZID:UTC
BEGIN:STANDARD
TZOFFSETFROM:+0000
TZOFFSETTO:+0000
TZNAME:UTC
DTSTART:20190101T000000
END:STANDARD
END:VTIMEZONE
BEGIN:VEVENT
DTSTART;VALUE=DATE:20220725
DTEND;VALUE=DATE:20220726
DTSTAMP:20260422T182602
CREATED:20220126T143845Z
LAST-MODIFIED:20240718T084737Z
UID:10000461-1658707200-1658793599@carolinas.pga.com
SUMMARY:Drive\, Chip & Putt Local Qualifier
DESCRIPTION:Drive\, Chip & Putt Local Qualifier\nFacility Name: The Peninsula Club\nLocation: Cornelius\, North Carolina\nEvent Date: Monday\, July 25\, 2022\nRegistration Deadline: Wednesday\, July 20\, 2022 at 4:00PM EDT (Event times for each participant and additional details for this event will be released after the registration deadline.) \nHeath and Safety Policies to Note: To see the full list of Covid-19 Health and Safety Policies for Drive\, Chip\, and Putt\, please visit the link here. Please read through all Covid-19 Health and Safety Policies before attending a Drive\, Chip\, and Putt event. \nFinally\, have fun and enjoy your time participating in Drive\, Chip\, and Putt!
URL:https://carolinas.pga.com/event/drive-chip-putt-local-qualifier-35/
LOCATION:The Peninsula Club\, 19101 Peninsula Club Drive\, Cornelius\, NC\, 28031\, United States
CATEGORIES:Junior
GEO:35.468798;-80.914675
X-APPLE-STRUCTURED-LOCATION;VALUE=URI;X-ADDRESS=The Peninsula Club 19101 Peninsula Club Drive Cornelius NC 28031 United States;X-APPLE-RADIUS=500;X-TITLE=19101 Peninsula Club Drive:geo:-80.914675,35.468798
END:VEVENT
BEGIN:VEVENT
DTSTART;VALUE=DATE:20210726
DTEND;VALUE=DATE:20210727
DTSTAMP:20260422T182602
CREATED:20210118T163353Z
LAST-MODIFIED:20240718T082805Z
UID:10000369-1627257600-1627343999@carolinas.pga.com
SUMMARY:Drive\, Chip & Putt Local Qualifier
DESCRIPTION:Drive\, Chip & Putt Local Qualifier \nThe Peninsula Club \nCornelius\, NC \nEvent Date: July 26th 2021 \nRegistration Deadline: July 21st\, 2021 at 4:00PM EDT. \nEvent times for each participant will be released after the registration deadline. \nSome Heath and Safety Policies to Note: \n\nAll attendees including participants\, parents\, volunteers\, staff\, and spectators must wear a mask at all times during the event.\nAll qualifiers will promote social distancing.\nParticipants will be asked to arrive at your scheduled time and leave immediately after the completion of your age division’s award ceremony.\nAvoid physical contact including handshakes\, fist bumps\, and high fives.\nParticipants should bring and use their own equipment whenever possible.\n\nTo see the full list of Covid-19 Health and Safety Policies for Drive\, Chip\, and Putt\, please visit the link here. Please read through all Covid-19 Health and Safety Policies before attending a Drive\, Chip\, and Putt event. \nFinally\, have fun and enjoy your time participating in Drive\, Chip\, and Putt!
URL:https://carolinas.pga.com/event/drive-chip-putt-local-qualifier-24/
LOCATION:The Peninsula Club\, 19101 Peninsula Club Drive\, Cornelius\, NC\, 28031\, United States
CATEGORIES:Junior
GEO:35.468798;-80.914675
X-APPLE-STRUCTURED-LOCATION;VALUE=URI;X-ADDRESS=The Peninsula Club 19101 Peninsula Club Drive Cornelius NC 28031 United States;X-APPLE-RADIUS=500;X-TITLE=19101 Peninsula Club Drive:geo:-80.914675,35.468798
END:VEVENT
BEGIN:VEVENT
DTSTART;VALUE=DATE:20200727
DTEND;VALUE=DATE:20200728
DTSTAMP:20260422T182602
CREATED:20190212T214314Z
LAST-MODIFIED:20240718T092220Z
UID:10000636-1595808000-1595894399@carolinas.pga.com
SUMMARY:Drive\, Chip\, & Putt Local Qualifier
DESCRIPTION:2021 Drive\, Chip\, & Putt – Local Qualifier\nThe Peninsula Club in Cornelius\, NC\nThis Drive\, Chip\, and Putt local qualifier will be held at The Peninsula Club in Cornelius\, N.C. on Monday\, July 27\, 2020 will be found here. \nCLICK HERE FOR LIVE SCORING\nCLICK HERE FOR DCP RULES\n \nWhen: Monday\, July 27\, 2020 \nWhere: The Peninsula Club\n19101 Peninsula Club Dr\nCornelius\, NC 28031\n(704) 896-7080 \nCost: Free to all participants \nPlan to arrive at least 30 minutes before your starting time to register and warm up.  Total time\, from arrival until your division is awarded ribbons\, is approximately 2 hours. ***Competitors tee off alphabetically by Last Name in each division\, so Anderson would go much sooner than Zaanan in their respective division. *** \n***PLEASE NOTE:  that the age divisions are based on how old the contestant will be if they make it to the finals in Augusta on April 4\, 2021 (next year!).  So\, if your child is 9 now but will be 10 by April 4\, 2021\, they will be in the 10-11 division\, not the 7-9 division.
URL:https://carolinas.pga.com/event/drive-chip-putt-local-qualifier-18/
LOCATION:The Peninsula Club\, 19101 Peninsula Club Drive\, Cornelius\, NC\, 28031\, United States
CATEGORIES:Junior
GEO:35.468798;-80.914675
X-APPLE-STRUCTURED-LOCATION;VALUE=URI;X-ADDRESS=The Peninsula Club 19101 Peninsula Club Drive Cornelius NC 28031 United States;X-APPLE-RADIUS=500;X-TITLE=19101 Peninsula Club Drive:geo:-80.914675,35.468798
END:VEVENT
END:VCALENDAR