BEGIN:VCALENDAR
VERSION:2.0
PRODID:-//Carolinas PGA Section - ECPv6.15.20//NONSGML v1.0//EN
CALSCALE:GREGORIAN
METHOD:PUBLISH
X-WR-CALNAME:Carolinas PGA Section
X-ORIGINAL-URL:https://carolinas.pga.com
X-WR-CALDESC:Events for Carolinas PGA Section
REFRESH-INTERVAL;VALUE=DURATION:PT1H
X-Robots-Tag:noindex
X-PUBLISHED-TTL:PT1H
BEGIN:VTIMEZONE
TZID:UTC
BEGIN:STANDARD
TZOFFSETFROM:+0000
TZOFFSETTO:+0000
TZNAME:UTC
DTSTART:20180101T000000
END:STANDARD
END:VTIMEZONE
BEGIN:VEVENT
DTSTART;VALUE=DATE:20200419
DTEND;VALUE=DATE:20200420
DTSTAMP:20260422T195238
CREATED:20200102T145335Z
LAST-MODIFIED:20240718T075238Z
UID:10000185-1587254400-1587340799@carolinas.pga.com
SUMMARY:PAT - The Hackler Course at Coastal Carolina University - CANCELED
DESCRIPTION:This event has been Canceled. We hope to provide a make-up date soon!\nThe National Office will provide a refund for anyone who registered automatically. You do not need to take any action. \nSunday\, April 19\, 2020\nThe Hackler Golf Course at CCU – Conway\, SC\nSite Charges $75\nIncluded: Cart\, Range Balls and Lunch \nMale Yardage: 6\,558\nPassing Score: 159\nFemale Yardage: 5\,530\nPassing Score: 159\nDeadline to Register: April 13\, 2020
URL:https://carolinas.pga.com/event/pat-the-hackler-course-at-coastal-carolina-university-9/
LOCATION:The Hackler Course at Coastal Carolina University\, 107 Citadel Dr\, Conway\, SC\, 29526-8871\, United States
CATEGORIES:PAT
ATTACH;FMTTYPE=image/png:https://carolinas.pga.com/wp-content/uploads/sites/3/2019/02/hackler.png
GEO:33.789807;-79.00963
X-APPLE-STRUCTURED-LOCATION;VALUE=URI;X-ADDRESS=The Hackler Course at Coastal Carolina University 107 Citadel Dr Conway SC 29526-8871 United States;X-APPLE-RADIUS=500;X-TITLE=107 Citadel Dr:geo:-79.00963,33.789807
END:VEVENT
BEGIN:VEVENT
DTSTART;VALUE=DATE:20200329
DTEND;VALUE=DATE:20200330
DTSTAMP:20260422T195238
CREATED:20200102T144744Z
LAST-MODIFIED:20240718T075225Z
UID:10000184-1585440000-1585526399@carolinas.pga.com
SUMMARY:PAT - The Hackler Course at Coastal Carolina University - CANCELED
DESCRIPTION:This event has been Canceled.\nThe National Office will provide a refund for anyone who registered automatically. You do not need to take any action. \nSunday\, March 29\, 2020\nThe Hackler Golf Course at CCU – Conway\, SC\nSite Charges $75\nIncluded: Cart\, Range Balls and Lunch \nMale Yardage: 6\,558\nPassing Score: 159\nFemale Yardage: 5\,530\nPassing Score: 159
URL:https://carolinas.pga.com/event/pat-the-hackler-course-at-coastal-carolina-university-8/
LOCATION:The Hackler Course at Coastal Carolina University\, 107 Citadel Dr\, Conway\, SC\, 29526-8871\, United States
CATEGORIES:PAT
ATTACH;FMTTYPE=image/png:https://carolinas.pga.com/wp-content/uploads/sites/3/2019/02/hackler.png
GEO:33.789807;-79.00963
X-APPLE-STRUCTURED-LOCATION;VALUE=URI;X-ADDRESS=The Hackler Course at Coastal Carolina University 107 Citadel Dr Conway SC 29526-8871 United States;X-APPLE-RADIUS=500;X-TITLE=107 Citadel Dr:geo:-79.00963,33.789807
END:VEVENT
BEGIN:VEVENT
DTSTART;VALUE=DATE:20191110
DTEND;VALUE=DATE:20191111
DTSTAMP:20260422T195238
CREATED:20190208T162423Z
LAST-MODIFIED:20240718T073338Z
UID:10000108-1573344000-1573430399@carolinas.pga.com
SUMMARY:PAT - The Hackler Course at Coastal Carolina University
DESCRIPTION:Sunday\, November 10\, 2019\nThe Hackler Golf Course at CCU – Conway\, SC\nSite Charges $75\nIncluded: Cart\, Range Balls and Lunch \nMale Yardage: 6\,558\nPassing Score: 159\nFemale Yardage: 5\,530\nPassing Score: 159\nHackler 11.10.19 Pairings & Contestant Info \nDeadline to Register: October 28\, 2019
URL:https://carolinas.pga.com/event/pat-the-hackler-course-at-coastal-carolina-university-7/
LOCATION:The Hackler Course at Coastal Carolina University\, 107 Citadel Dr\, Conway\, SC\, 29526-8871\, United States
CATEGORIES:PAT
ATTACH;FMTTYPE=image/png:https://carolinas.pga.com/wp-content/uploads/sites/3/2019/02/hackler.png
GEO:33.789807;-79.00963
X-APPLE-STRUCTURED-LOCATION;VALUE=URI;X-ADDRESS=The Hackler Course at Coastal Carolina University 107 Citadel Dr Conway SC 29526-8871 United States;X-APPLE-RADIUS=500;X-TITLE=107 Citadel Dr:geo:-79.00963,33.789807
END:VEVENT
BEGIN:VEVENT
DTSTART;VALUE=DATE:20191013
DTEND;VALUE=DATE:20191014
DTSTAMP:20260422T195238
CREATED:20190208T162418Z
LAST-MODIFIED:20240718T073118Z
UID:10000098-1570924800-1571011199@carolinas.pga.com
SUMMARY:PAT - The Hackler Course at Coastal Carolina University
DESCRIPTION:The Hackler Golf Course at CCU – Conway\, SC\nSite Charges $75\nIncluded: Cart\, Range Balls and Lunch \nMale Yardage: 6\,558\nPassing Score: 159\nFemale Yardage: 5\,530\nPassing Score: 159\nHackler 10.13.19 Pairings & Contestant Info\n 
URL:https://carolinas.pga.com/event/pat-the-hackler-course-at-coastal-carolina-university-6/
LOCATION:The Hackler Course at Coastal Carolina University\, 107 Citadel Dr\, Conway\, SC\, 29526-8871\, United States
CATEGORIES:PAT
ATTACH;FMTTYPE=image/png:https://carolinas.pga.com/wp-content/uploads/sites/3/2019/02/hackler.png
GEO:33.789807;-79.00963
X-APPLE-STRUCTURED-LOCATION;VALUE=URI;X-ADDRESS=The Hackler Course at Coastal Carolina University 107 Citadel Dr Conway SC 29526-8871 United States;X-APPLE-RADIUS=500;X-TITLE=107 Citadel Dr:geo:-79.00963,33.789807
END:VEVENT
BEGIN:VEVENT
DTSTART;VALUE=DATE:20190915
DTEND;VALUE=DATE:20190916
DTSTAMP:20260422T195238
CREATED:20190208T162413Z
LAST-MODIFIED:20240718T072903Z
UID:10000088-1568505600-1568591999@carolinas.pga.com
SUMMARY:PAT - The Hackler Course at Coastal Carolina University
DESCRIPTION:Sunday\, September 15\, 2019\nThe Hackler Golf Course at CCU – Conway\, SC\nSite Charges $75\nIncluded: Cart\, Range Balls and Lunch \nMale Yardage: 6\,558\nPassing Score: 159\nFemale Yardage: 5\,530\nPassing Score: 159\nHackler 9.15.19 Pairings & Contestant Info\nDeadline to Register: September 3\, 2019
URL:https://carolinas.pga.com/event/pat-the-hackler-course-at-coastal-carolina-university-5/
LOCATION:The Hackler Course at Coastal Carolina University\, 107 Citadel Dr\, Conway\, SC\, 29526-8871\, United States
CATEGORIES:PAT
ATTACH;FMTTYPE=image/png:https://carolinas.pga.com/wp-content/uploads/sites/3/2019/02/hackler.png
GEO:33.789807;-79.00963
X-APPLE-STRUCTURED-LOCATION;VALUE=URI;X-ADDRESS=The Hackler Course at Coastal Carolina University 107 Citadel Dr Conway SC 29526-8871 United States;X-APPLE-RADIUS=500;X-TITLE=107 Citadel Dr:geo:-79.00963,33.789807
END:VEVENT
BEGIN:VEVENT
DTSTART;VALUE=DATE:20190504
DTEND;VALUE=DATE:20190505
DTSTAMP:20260422T195238
CREATED:20190208T162354Z
LAST-MODIFIED:20240718T072129Z
UID:10000054-1556928000-1557014399@carolinas.pga.com
SUMMARY:PAT - The Hackler Course at Coastal Carolina University
DESCRIPTION:Saturday\, May 4\, 2019\nThe Hackler Golf Course at CCU – Conway\, SC\nSite Charges $75\nIncluded: Cart\, Range Balls and Lunch \nMale Yardage: 6\,558\nPassing Score: 159\nFemale Yardage: 5\,530\nPassing Score: 159\nHackler 5.4.19 Pairings & Contestant Info \nDeadline to Register: 04/22/2019 \n\n  \n \n \n\n\n\n 
URL:https://carolinas.pga.com/event/pat-the-hackler-course-at-coastal-carolina-university-4/
LOCATION:The Hackler Course at Coastal Carolina University\, 107 Citadel Dr\, Conway\, SC\, 29526-8871\, United States
CATEGORIES:PAT
GEO:33.789807;-79.00963
X-APPLE-STRUCTURED-LOCATION;VALUE=URI;X-ADDRESS=The Hackler Course at Coastal Carolina University 107 Citadel Dr Conway SC 29526-8871 United States;X-APPLE-RADIUS=500;X-TITLE=107 Citadel Dr:geo:-79.00963,33.789807
END:VEVENT
BEGIN:VEVENT
DTSTART;VALUE=DATE:20190414
DTEND;VALUE=DATE:20190415
DTSTAMP:20260422T195238
CREATED:20190208T162349Z
LAST-MODIFIED:20240718T071915Z
UID:10000044-1555200000-1555286399@carolinas.pga.com
SUMMARY:PAT - The Hackler Course at Coastal Carolina University
DESCRIPTION:Sunday\, April 14\, 2019\n\nHost Site: The Hackler Course at CCU\nConway\, SC\nSite Charges: $75\nIncludes: Cart\, Range Balls and Lunch \nMale Yardage: 6\,558\nPassing Score: 159\nMales Over 50 Yardage:  6\,164\nPassing Score: 159\nFemale Yardage: 5\,530\nPassing Score: 159\nHackler 4.14.18 Pairings & Contestant Info \n\n\n  \n \n \n\n\n\n 
URL:https://carolinas.pga.com/event/pat-the-hackler-course-at-coastal-carolina-university-3/
LOCATION:The Hackler Course at Coastal Carolina University\, 107 Citadel Dr\, Conway\, SC\, 29526-8871\, United States
CATEGORIES:PAT
GEO:33.789807;-79.00963
X-APPLE-STRUCTURED-LOCATION;VALUE=URI;X-ADDRESS=The Hackler Course at Coastal Carolina University 107 Citadel Dr Conway SC 29526-8871 United States;X-APPLE-RADIUS=500;X-TITLE=107 Citadel Dr:geo:-79.00963,33.789807
END:VEVENT
BEGIN:VEVENT
DTSTART;VALUE=DATE:20190324
DTEND;VALUE=DATE:20190325
DTSTAMP:20260422T195238
CREATED:20190208T162345Z
LAST-MODIFIED:20240718T071702Z
UID:10000034-1553385600-1553471999@carolinas.pga.com
SUMMARY:PAT - The Hackler Course at Coastal Carolina University
DESCRIPTION:Sunday\, March 24\, 2019\nThe Hackler Golf Course at CCU – Conway\, SC\nSite Charges $75\nIncluded: Cart\, Range Balls and Lunch \nMale Yardage: 6\,558\nPassing Score: 159\nFemale Yardage: 5\,530\nPassing Score: 159\nHackler PAT Pairings & Contestant Info \n \n\n\n\n 
URL:https://carolinas.pga.com/event/pat-the-hackler-course-at-coastal-carolina-university-2/
LOCATION:The Hackler Course at Coastal Carolina University\, 107 Citadel Dr\, Conway\, SC\, 29526-8871\, United States
CATEGORIES:PAT
GEO:33.789807;-79.00963
X-APPLE-STRUCTURED-LOCATION;VALUE=URI;X-ADDRESS=The Hackler Course at Coastal Carolina University 107 Citadel Dr Conway SC 29526-8871 United States;X-APPLE-RADIUS=500;X-TITLE=107 Citadel Dr:geo:-79.00963,33.789807
END:VEVENT
BEGIN:VEVENT
DTSTART;VALUE=DATE:20190303
DTEND;VALUE=DATE:20190304
DTSTAMP:20260422T195238
CREATED:20190208T162338Z
LAST-MODIFIED:20240718T071448Z
UID:10000025-1551571200-1551657599@carolinas.pga.com
SUMMARY:PAT - The Hackler Course at Coastal Carolina University
DESCRIPTION:Sunday\, March 3\, 2019\nThe Hackler Golf Course at CCU – Conway\, SC\nSite Charges $75\nIncluded: Cart\, Range Balls and Lunch \nMale Yardage: 6\,558\nPassing Score: 159\nFemale Yardage: 5\,530\nPassing Score: 159\nDeadline to Register: 02/18/2019 \n  \nClick Here for Pairings and Contestant Information \n\n\n  \n \n 
URL:https://carolinas.pga.com/event/pat-the-hackler-course-at-coastal-carolina-university/
LOCATION:The Hackler Course at Coastal Carolina University\, 107 Citadel Dr\, Conway\, SC\, 29526-8871\, United States
CATEGORIES:PAT
GEO:33.789807;-79.00963
X-APPLE-STRUCTURED-LOCATION;VALUE=URI;X-ADDRESS=The Hackler Course at Coastal Carolina University 107 Citadel Dr Conway SC 29526-8871 United States;X-APPLE-RADIUS=500;X-TITLE=107 Citadel Dr:geo:-79.00963,33.789807
END:VEVENT
END:VCALENDAR