BEGIN:VCALENDAR
VERSION:2.0
PRODID:-//Carolinas PGA Section - ECPv6.15.20//NONSGML v1.0//EN
CALSCALE:GREGORIAN
METHOD:PUBLISH
X-ORIGINAL-URL:https://carolinas.pga.com
X-WR-CALDESC:Events for Carolinas PGA Section
REFRESH-INTERVAL;VALUE=DURATION:PT1H
X-Robots-Tag:noindex
X-PUBLISHED-TTL:PT1H
BEGIN:VTIMEZONE
TZID:UTC
BEGIN:STANDARD
TZOFFSETFROM:+0000
TZOFFSETTO:+0000
TZNAME:UTC
DTSTART:20190101T000000
END:STANDARD
END:VTIMEZONE
BEGIN:VEVENT
DTSTART;VALUE=DATE:20220521
DTEND;VALUE=DATE:20220522
DTSTAMP:20260423T071336
CREATED:20220126T134246Z
LAST-MODIFIED:20240718T084426Z
UID:10000445-1653091200-1653177599@carolinas.pga.com
SUMMARY:Drive\, Chip & Putt Local Qualifier
DESCRIPTION:Drive\, Chip & Putt Local Qualifier\nFacility Name: Par Tee Golf Center\nLocation: West Columbia\, South Carolina\nEvent Date: Saturday\, May 21\, 2022\nRegistration Deadline: Monday\, May 16\, 2022 at 4:00PM EDT (Event times for each participant and additional details for this event will be released after the registration deadline.) \nHeath and Safety Policies to Note: To see the full list of Covid-19 Health and Safety Policies for Drive\, Chip\, and Putt\, please visit the link here. Please read through all Covid-19 Health and Safety Policies before attending a Drive\, Chip\, and Putt event. \nFinally\, have fun and enjoy your time participating in Drive\, Chip\, and Putt!
URL:https://carolinas.pga.com/event/drive-chip-putt-local-qualifier-25/
LOCATION:Par Tee Golf Center\, 3209 Charleston Hwy.\, West Columbia\, 29172\, United States
CATEGORIES:Junior
GEO:33.917052;-81.0734797
X-APPLE-STRUCTURED-LOCATION;VALUE=URI;X-ADDRESS=Par Tee Golf Center 3209 Charleston Hwy. West Columbia 29172 United States;X-APPLE-RADIUS=500;X-TITLE=3209 Charleston Hwy.:geo:-81.0734797,33.917052
END:VEVENT
BEGIN:VEVENT
DTSTART;VALUE=DATE:20210508
DTEND;VALUE=DATE:20210509
DTSTAMP:20260423T071336
CREATED:20210112T200237Z
LAST-MODIFIED:20240718T082331Z
UID:10000343-1620432000-1620518399@carolinas.pga.com
SUMMARY:Drive\, Chip & Putt Local Qualfier
DESCRIPTION:Drive\, Chip & Putt Local Qualifier \nPar Tee Golf Center \nWest Columbia\, SC \nEvent Date: May 8th 2021 \nRegistration Deadline: May 3rd\, 2021 at 4:00PM EDT. \nEvent times for each participant will be released after the registration deadline. \nSome Heath and Safety Policies to Note: \n\nAll attendees including participants\, parents\, volunteers\, staff and spectators must wear a mask at all times during the event.\nAll qualifiers will promote social distancing\nParticipants will be asked to arrive at your scheduled time and leave immediately after the completion of your age division’s award ceremony.\nAvoid physical contact including handshakes\, fist bumps\, and high fives.\nParticipants should bring and use their own equipment whenever possible.\n\nTo see the full list of Covid-19 Health and Safety Policies for Drive\, Chip\, and Putt\, please visit the link here. Please read through all Covid-19 Health and Safety Policies before attending a Drive\, Chip\, and Putt event.
URL:https://carolinas.pga.com/event/drive-chip-putt-local-qualfier-par-tee-golf-center/
LOCATION:Par Tee Golf Center\, 3209 Charleston Hwy.\, West Columbia\, 29172\, United States
CATEGORIES:Junior
GEO:33.917052;-81.0734797
X-APPLE-STRUCTURED-LOCATION;VALUE=URI;X-ADDRESS=Par Tee Golf Center 3209 Charleston Hwy. West Columbia 29172 United States;X-APPLE-RADIUS=500;X-TITLE=3209 Charleston Hwy.:geo:-81.0734797,33.917052
END:VEVENT
BEGIN:VEVENT
DTSTART;VALUE=DATE:20200516
DTEND;VALUE=DATE:20200517
DTSTAMP:20260423T071336
CREATED:20190212T214327Z
LAST-MODIFIED:20240718T092512Z
UID:10000652-1589587200-1589673599@carolinas.pga.com
SUMMARY:Drive\, Chip\, & Putt Local Qualifier
DESCRIPTION:2021 Drive\, Chip\, & Putt – Local Qualifier\nPar Tee Golf Center in Columbia\, NC\nThis Drive\, Chip\, and Putt local qualifier will be held at Par Tee Golf Center in Columbia\, N.C. on Saturday\, May 16\, 2020\, will be found here. \nCLICK HERE FOR LIVE SCORING\nCLICK HERE FOR DCP RULES \n  \n  \nWhen: Saturday\, May 16\, 2020 \nWhere: Par Tee Golf Center\n3209 Charleston Hwy.\nWest Columbia\, SC 29172\n(803) 796-5900 \nCost: Free to all participants \nPlan to arrive at least 30 minutes before your starting time to register and warm up.  Total time\, from arrival until your division is awarded ribbons\, is approximately 2 hours. ***Competitors tee off alphabetically by Last Name in each division\, so Anderson would go much sooner than Zaanan in their respective division. *** \n***PLEASE NOTE:  that the age divisions are based on how old the contestant will be if they make it to the finals in Augusta on April 4\, 2021 (next year!).  So\, if your child is 9 now but will be 10 by April 4\, 2021\, they will be in the 10-11 division\, not the 7-9 division.
URL:https://carolinas.pga.com/event/drive-chip-putt-local-qualifier-1/
LOCATION:Par Tee Golf Center\, 3209 Charleston Hwy.\, West Columbia\, 29172\, United States
CATEGORIES:Junior
GEO:33.917052;-81.0734797
X-APPLE-STRUCTURED-LOCATION;VALUE=URI;X-ADDRESS=Par Tee Golf Center 3209 Charleston Hwy. West Columbia 29172 United States;X-APPLE-RADIUS=500;X-TITLE=3209 Charleston Hwy.:geo:-81.0734797,33.917052
END:VEVENT
END:VCALENDAR