BEGIN:VCALENDAR
VERSION:2.0
PRODID:-//Carolinas PGA Section - ECPv6.15.20//NONSGML v1.0//EN
CALSCALE:GREGORIAN
METHOD:PUBLISH
X-WR-CALNAME:Carolinas PGA Section
X-ORIGINAL-URL:https://carolinas.pga.com
X-WR-CALDESC:Events for Carolinas PGA Section
REFRESH-INTERVAL;VALUE=DURATION:PT1H
X-Robots-Tag:noindex
X-PUBLISHED-TTL:PT1H
BEGIN:VTIMEZONE
TZID:UTC
BEGIN:STANDARD
TZOFFSETFROM:+0000
TZOFFSETTO:+0000
TZNAME:UTC
DTSTART:20180101T000000
END:STANDARD
END:VTIMEZONE
BEGIN:VEVENT
DTSTART;VALUE=DATE:20251106
DTEND;VALUE=DATE:20251107
DTSTAMP:20260422T022151
CREATED:20250807T154650Z
LAST-MODIFIED:20250807T154807Z
UID:10000779-1762387200-1762473599@carolinas.pga.com
SUMMARY:"The Griggsy" NBGCC Pro-Am
DESCRIPTION:Thursday\, November 6th\, 2025\nNew Bern Golf & CC – New Bern\, NC\nEntry Fee: $125 for Professionals\, $125 for Amateurs \nAmenities Included: Boxed Lunch Provided | Food and Drinks After Play \n                                                                             Complimentary Pro Skins Pool of $500 \nStarting Time: 11:00 AM Shotgun \n# of Amateurs To Bring: 1-2 \nFormat: 1 Gross+ 1 Net \nHost Professional: Bryce Young\, PGA\nPhone: (252) 637-2413\nbyoung@nbgcc.com
URL:https://carolinas.pga.com/event/the-griggsy-nbgcc-pro-am-2/
LOCATION:New Bern Golf & CC\, 4301 Country Club Rd\, Trent Woods\, NC\, 28562\, United States
CATEGORIES:Pro-Am
ATTACH;FMTTYPE=image/png:https://carolinas.pga.com/wp-content/uploads/sites/3/2024/02/Retro-Transparent.png
GEO:35.0736406;-77.0910148
X-APPLE-STRUCTURED-LOCATION;VALUE=URI;X-ADDRESS=New Bern Golf & CC 4301 Country Club Rd Trent Woods NC 28562 United States;X-APPLE-RADIUS=500;X-TITLE=4301 Country Club Rd:geo:-77.0910148,35.0736406
END:VEVENT
BEGIN:VEVENT
DTSTART;VALUE=DATE:20241107
DTEND;VALUE=DATE:20241108
DTSTAMP:20260422T022151
CREATED:20240221T190627Z
LAST-MODIFIED:20240718T091907Z
UID:10000617-1730937600-1731023999@carolinas.pga.com
SUMMARY:"The Griggsy" NBGCC Pro-Am
DESCRIPTION:Thursday\, November 7th\, 2024\nNew Bern Golf & CC – New Bern\, NC\nEntry Fee: $125 for Professionals\, $125 for Amateurs \nAmenities Included: Boxed Lunch Provided | Food and Drinks After Play \nStarting Time: 11:00 AM Shotgun \n# of Amateurs To Bring: 1-2 \nFormat: 1 Gross+ 1 Net \nHost Professional: Bryce Young\, PGA\nPhone: (252) 637-2413\nbyoung@nbgcc.com
URL:https://carolinas.pga.com/event/the-griggsy-nbgcc-pro-am/
LOCATION:New Bern Golf & CC\, 4301 Country Club Rd\, Trent Woods\, NC\, 28562\, United States
CATEGORIES:Pro-Am
ATTACH;FMTTYPE=image/png:https://carolinas.pga.com/wp-content/uploads/sites/3/2024/02/Retro-Transparent.png
GEO:35.0736406;-77.0910148
X-APPLE-STRUCTURED-LOCATION;VALUE=URI;X-ADDRESS=New Bern Golf & CC 4301 Country Club Rd Trent Woods NC 28562 United States;X-APPLE-RADIUS=500;X-TITLE=4301 Country Club Rd:geo:-77.0910148,35.0736406
END:VEVENT
BEGIN:VEVENT
DTSTART;VALUE=DATE:20231102
DTEND;VALUE=DATE:20231103
DTSTAMP:20260422T022151
CREATED:20230616T204138Z
LAST-MODIFIED:20240718T091303Z
UID:10000585-1698883200-1698969599@carolinas.pga.com
SUMMARY:"The Griggsy" NBGCC Pro-Am
DESCRIPTION:Thursday\, November 2nd\, 2023\nNew Bern Golf & CC – New Bern\, NC\nEntry Fee: $125 for Professionals\, $125 for Amateurs \nAmenities Included: Boxed Lunch Provided | Food and Drinks After Play \nStarting Time: 11:00 AM Shotgun \n# of Amateurs To Bring: 1-2 \nFormat: 1 Gross+ 1 Net \nHost Professional: Bryce Young\, PGA\nPhone: (252) 637-2413\nbyoung@nbgcc.com \n 
URL:https://carolinas.pga.com/event/nbgcc-pro-am-2-2/
LOCATION:New Bern Golf & CC\, 4301 Country Club Rd\, Trent Woods\, NC\, 28562\, United States
CATEGORIES:Pro-Am
ATTACH;FMTTYPE=image/png:https://carolinas.pga.com/wp-content/uploads/sites/3/2019/08/New-Bern-Golf-CC.png
GEO:35.0736406;-77.0910148
X-APPLE-STRUCTURED-LOCATION;VALUE=URI;X-ADDRESS=New Bern Golf & CC 4301 Country Club Rd Trent Woods NC 28562 United States;X-APPLE-RADIUS=500;X-TITLE=4301 Country Club Rd:geo:-77.0910148,35.0736406
END:VEVENT
BEGIN:VEVENT
DTSTART;VALUE=DATE:20221103
DTEND;VALUE=DATE:20221104
DTSTAMP:20260422T022151
CREATED:20220812T130728Z
LAST-MODIFIED:20240718T085633Z
UID:10000507-1667433600-1667519999@carolinas.pga.com
SUMMARY:"The Griggsy" NBGCC Pro-Am
DESCRIPTION:Thursday\, November 3rd\, 2022\nNew Bern Golf & CC – New Bern\, NC\nEntry Fee: $125 for Professionals\, $125 for Amateurs \nAmenities Included: Tee gift\, Lunch\, Food and Drinks after play \n$500 skins game included for the Professionals \nStarting Time: 11:00 AM Shotgun \n# of Amateurs To Bring: 2 \nFormat: 1 Gross+ 1 Net \nHost Professional: Bryce Young\, PGA\nPhone: (252) 637-2413 \n 
URL:https://carolinas.pga.com/event/southland-electrical-nbgcc-pro-am-2/
LOCATION:New Bern Golf & CC\, 4301 Country Club Rd\, Trent Woods\, NC\, 28562\, United States
CATEGORIES:Other,Pro-Am
ATTACH;FMTTYPE=image/png:https://carolinas.pga.com/wp-content/uploads/sites/3/2019/08/New-Bern-Golf-CC.png
GEO:35.0736406;-77.0910148
X-APPLE-STRUCTURED-LOCATION;VALUE=URI;X-ADDRESS=New Bern Golf & CC 4301 Country Club Rd Trent Woods NC 28562 United States;X-APPLE-RADIUS=500;X-TITLE=4301 Country Club Rd:geo:-77.0910148,35.0736406
END:VEVENT
BEGIN:VEVENT
DTSTART;VALUE=DATE:20211104
DTEND;VALUE=DATE:20211105
DTSTAMP:20260422T022151
CREATED:20210712T194520Z
LAST-MODIFIED:20240718T083621Z
UID:10000411-1635984000-1636070399@carolinas.pga.com
SUMMARY:NBGCC #SaraStrong Pro-Am
DESCRIPTION:Thursday\, November 4\, 2021\nNew Bern Golf & CC – New Bern\, NC\nEntry Fee: Professional $1o0\, Amateur $100 \nAmenities Included: Cart Fees\, Tee Gifts\, Lunch\, Drinks on Course \nStarting Time: 10:00 AM Shotgun \n# of Amateurs To Bring: 1-3 \nFormat: 1 Best Ball Gross Plus 1 Best Ball Net (2 different balls) \nHost Professional: Alan Ferebee\, PGA. \nEmail: alanferebee@gmail.com
URL:https://carolinas.pga.com/event/nbgcc-sarastrong-pro-am-2/
LOCATION:New Bern Golf & CC\, 4301 Country Club Rd\, Trent Woods\, NC\, 28562\, United States
CATEGORIES:Pro-Am
ATTACH;FMTTYPE=image/png:https://carolinas.pga.com/wp-content/uploads/sites/3/2019/08/New-Bern-Golf-CC.png
GEO:35.0736406;-77.0910148
X-APPLE-STRUCTURED-LOCATION;VALUE=URI;X-ADDRESS=New Bern Golf & CC 4301 Country Club Rd Trent Woods NC 28562 United States;X-APPLE-RADIUS=500;X-TITLE=4301 Country Club Rd:geo:-77.0910148,35.0736406
END:VEVENT
BEGIN:VEVENT
DTSTART;VALUE=DATE:20201119
DTEND;VALUE=DATE:20201120
DTSTAMP:20260422T022151
CREATED:20200810T001223Z
LAST-MODIFIED:20240718T080934Z
UID:10000269-1605744000-1605830399@carolinas.pga.com
SUMMARY:NBGCC #SaraStrong Pro-Am
DESCRIPTION:Thursday\, November 19\, 2020\nNew Bern Golf & CC – New Bern\, NC\nEntry Fee: Professional $1o0\, Amateur $100 \nAmenities Included: Cart Fees\, Tee Gifts\, Lunch\, Drinks on Course and after play \nStarting Time: 10:00 AM Shotgun \n# of Amateurs To Bring: 2-3 \nFormat: 1 Best Ball Gross Plus 1 Best Ball Net (2 different balls) \nHost Professional: Alan Ferebee\, PGA. \nEmail: alanferebee@gmail.com
URL:https://carolinas.pga.com/event/nbgcc-sarastrong-pro-am/
LOCATION:New Bern Golf & CC\, 4301 Country Club Rd\, Trent Woods\, NC\, 28562\, United States
CATEGORIES:Pro-Am
ATTACH;FMTTYPE=image/png:https://carolinas.pga.com/wp-content/uploads/sites/3/2019/08/New-Bern-Golf-CC.png
GEO:35.0736406;-77.0910148
X-APPLE-STRUCTURED-LOCATION;VALUE=URI;X-ADDRESS=New Bern Golf & CC 4301 Country Club Rd Trent Woods NC 28562 United States;X-APPLE-RADIUS=500;X-TITLE=4301 Country Club Rd:geo:-77.0910148,35.0736406
END:VEVENT
BEGIN:VEVENT
DTSTART;VALUE=DATE:20191107
DTEND;VALUE=DATE:20191108
DTSTAMP:20260422T022151
CREATED:20190821T194627Z
LAST-MODIFIED:20240718T074741Z
UID:10000165-1573084800-1573171199@carolinas.pga.com
SUMMARY:Southland Electrical NBGCC Pro-Am
DESCRIPTION:Thursday\, November 7\, 2019\nNew Bern Golf & CC – New Bern\, NC\nEntry Fee: $100 for Professionals\, $100 for Amateurs \nAmenities Included: Lunch\, food after play\, drinks on course \nStarting Time: 10:00 AM Shotgun \n# of Amateurs To Bring: 2-3 \nFormat: 1 Best Ball Gross and 1 Best Ball Net Using 2 Different Balls \nHost Professional: Alan Ferebee\, PGA.\nPhone: (252) 637-2413
URL:https://carolinas.pga.com/event/southland-electrical-nbgcc-pro-am/
LOCATION:New Bern Golf & CC\, 4301 Country Club Rd\, Trent Woods\, NC\, 28562\, United States
CATEGORIES:Other,Pro-Am
ATTACH;FMTTYPE=image/png:https://carolinas.pga.com/wp-content/uploads/sites/3/2019/08/New-Bern-Golf-CC.png
GEO:35.0736406;-77.0910148
X-APPLE-STRUCTURED-LOCATION;VALUE=URI;X-ADDRESS=New Bern Golf & CC 4301 Country Club Rd Trent Woods NC 28562 United States;X-APPLE-RADIUS=500;X-TITLE=4301 Country Club Rd:geo:-77.0910148,35.0736406
END:VEVENT
END:VCALENDAR