BEGIN:VCALENDAR
VERSION:2.0
PRODID:-//Carolinas PGA Section - ECPv6.15.20//NONSGML v1.0//EN
CALSCALE:GREGORIAN
METHOD:PUBLISH
X-WR-CALNAME:Carolinas PGA Section
X-ORIGINAL-URL:https://carolinas.pga.com
X-WR-CALDESC:Events for Carolinas PGA Section
REFRESH-INTERVAL;VALUE=DURATION:PT1H
X-Robots-Tag:noindex
X-PUBLISHED-TTL:PT1H
BEGIN:VTIMEZONE
TZID:UTC
BEGIN:STANDARD
TZOFFSETFROM:+0000
TZOFFSETTO:+0000
TZNAME:UTC
DTSTART:20200101T000000
END:STANDARD
END:VTIMEZONE
BEGIN:VEVENT
DTSTART;VALUE=DATE:20210913
DTEND;VALUE=DATE:20210914
DTSTAMP:20260422T122356
CREATED:20210104T172810Z
LAST-MODIFIED:20240718T081931Z
UID:10000320-1631491200-1631577599@carolinas.pga.com
SUMMARY:Club Car CPGA Pro-Official Championship
DESCRIPTION:Tournament Information Coming Soon!
URL:https://carolinas.pga.com/event/club-car-cpga-pro-official-championship-2/
LOCATION:Kiawah Island Club – Ocean Course\, 1 Sanctuary Beach Dr.\, Kiawah Island\, South Carolina\, 29455
CATEGORIES:Major & Section,Majors,Majors / Assistants' Assoc
GEO:32.6038845;-80.094542
X-APPLE-STRUCTURED-LOCATION;VALUE=URI;X-ADDRESS=Kiawah Island Club – Ocean Course 1 Sanctuary Beach Dr. Kiawah Island South Carolina 29455;X-APPLE-RADIUS=500;X-TITLE=1 Sanctuary Beach Dr.:geo:-80.094542,32.6038845
END:VEVENT
END:VCALENDAR