BEGIN:VCALENDAR
VERSION:2.0
PRODID:-//Carolinas PGA Section - ECPv6.15.20//NONSGML v1.0//EN
CALSCALE:GREGORIAN
METHOD:PUBLISH
X-ORIGINAL-URL:https://carolinas.pga.com
X-WR-CALDESC:Events for Carolinas PGA Section
REFRESH-INTERVAL;VALUE=DURATION:PT1H
X-Robots-Tag:noindex
X-PUBLISHED-TTL:PT1H
BEGIN:VTIMEZONE
TZID:UTC
BEGIN:STANDARD
TZOFFSETFROM:+0000
TZOFFSETTO:+0000
TZNAME:UTC
DTSTART:20210101T000000
END:STANDARD
END:VTIMEZONE
BEGIN:VEVENT
DTSTART;VALUE=DATE:20220614
DTEND;VALUE=DATE:20220616
DTSTAMP:20260420T234958
CREATED:20220209T204743Z
LAST-MODIFIED:20240718T084930Z
UID:10000471-1655164800-1655337599@carolinas.pga.com
SUMMARY:Harrah's Cherokee Casino Pro-Am
DESCRIPTION:
URL:https://carolinas.pga.com/event/harrahs-cherokee-casino-pro-am/
LOCATION:Harrah’s Cherokke Casino\, 777 Casino Drive\, Cherokee\, NC\, 28719
CATEGORIES:Major & Section,Majors
ATTACH;FMTTYPE=image/png:https://carolinas.pga.com/wp-content/uploads/sites/3/2019/02/Harrahs-Logo.png
GEO:35.4690372;-83.2980054
X-APPLE-STRUCTURED-LOCATION;VALUE=URI;X-ADDRESS=Harrah’s Cherokke Casino 777 Casino Drive Cherokee NC 28719;X-APPLE-RADIUS=500;X-TITLE=777 Casino Drive:geo:-83.2980054,35.4690372
END:VEVENT
END:VCALENDAR