BEGIN:VCALENDAR
VERSION:2.0
PRODID:-//Carolinas PGA Section - ECPv6.15.20//NONSGML v1.0//EN
CALSCALE:GREGORIAN
METHOD:PUBLISH
X-WR-CALNAME:Carolinas PGA Section
X-ORIGINAL-URL:https://carolinas.pga.com
X-WR-CALDESC:Events for Carolinas PGA Section
REFRESH-INTERVAL;VALUE=DURATION:PT1H
X-Robots-Tag:noindex
X-PUBLISHED-TTL:PT1H
BEGIN:VTIMEZONE
TZID:UTC
BEGIN:STANDARD
TZOFFSETFROM:+0000
TZOFFSETTO:+0000
TZNAME:UTC
DTSTART:20180101T000000
END:STANDARD
END:VTIMEZONE
BEGIN:VEVENT
DTSTART;VALUE=DATE:20210608
DTEND;VALUE=DATE:20210610
DTSTAMP:20260420T183538
CREATED:20210104T162421Z
LAST-MODIFIED:20240718T081741Z
UID:10000310-1623110400-1623283199@carolinas.pga.com
SUMMARY:57th North Carolina Open
DESCRIPTION:Tournament Information Coming Soon!
URL:https://carolinas.pga.com/event/57th-north-carolina-open/
LOCATION:Gaston Country Club\, 3700 Country Club Dr.\, Gastonia\, North Carolina\, 28056\, United States
CATEGORIES:Major & Section,Majors
GEO:35.210115;-81.148719
X-APPLE-STRUCTURED-LOCATION;VALUE=URI;X-ADDRESS=Gaston Country Club 3700 Country Club Dr. Gastonia North Carolina 28056 United States;X-APPLE-RADIUS=500;X-TITLE=3700 Country Club Dr.:geo:-81.148719,35.210115
END:VEVENT
BEGIN:VEVENT
DTSTART;VALUE=DATE:20210503
DTEND;VALUE=DATE:20210504
DTSTAMP:20260420T183538
CREATED:20210104T161759Z
LAST-MODIFIED:20240718T081652Z
UID:10000306-1620000000-1620086399@carolinas.pga.com
SUMMARY:Wells Fargo Championship Event Qualifying
DESCRIPTION:Event Information Coming Soon!
URL:https://carolinas.pga.com/event/wells-fargo-championship-event-qualifying/
LOCATION:Gaston Country Club\, 3700 Country Club Dr.\, Gastonia\, North Carolina\, 28056\, United States
CATEGORIES:PGA TOUR,PGA Tour Qualifying
GEO:35.210115;-81.148719
X-APPLE-STRUCTURED-LOCATION;VALUE=URI;X-ADDRESS=Gaston Country Club 3700 Country Club Dr. Gastonia North Carolina 28056 United States;X-APPLE-RADIUS=500;X-TITLE=3700 Country Club Dr.:geo:-81.148719,35.210115
END:VEVENT
BEGIN:VEVENT
DTSTART;VALUE=DATE:20210429
DTEND;VALUE=DATE:20210430
DTSTAMP:20260420T183538
CREATED:20210104T161924Z
LAST-MODIFIED:20240718T081702Z
UID:10000307-1619654400-1619740799@carolinas.pga.com
SUMMARY:Wells Fargo Pre-Qualifier #2
DESCRIPTION:Event Information Coming Soon!
URL:https://carolinas.pga.com/event/wells-fargo-pre-qualifier-2/
LOCATION:Gaston Country Club\, 3700 Country Club Dr.\, Gastonia\, North Carolina\, 28056\, United States
CATEGORIES:PGA TOUR,PGA Tour Qualifying
GEO:35.210115;-81.148719
X-APPLE-STRUCTURED-LOCATION;VALUE=URI;X-ADDRESS=Gaston Country Club 3700 Country Club Dr. Gastonia North Carolina 28056 United States;X-APPLE-RADIUS=500;X-TITLE=3700 Country Club Dr.:geo:-81.148719,35.210115
END:VEVENT
BEGIN:VEVENT
DTSTART;VALUE=DATE:20210427
DTEND;VALUE=DATE:20210428
DTSTAMP:20260420T183538
CREATED:20210125T200031Z
LAST-MODIFIED:20240718T083012Z
UID:10000381-1619481600-1619567999@carolinas.pga.com
SUMMARY:Wells Fargo Pre-Qualifier #1
DESCRIPTION:
URL:https://carolinas.pga.com/event/wells-fargo-pre-qualifier-1/
LOCATION:Gaston Country Club\, 3700 Country Club Dr.\, Gastonia\, North Carolina\, 28056\, United States
CATEGORIES:PGA TOUR,PGA Tour Qualifying
GEO:35.210115;-81.148719
X-APPLE-STRUCTURED-LOCATION;VALUE=URI;X-ADDRESS=Gaston Country Club 3700 Country Club Dr. Gastonia North Carolina 28056 United States;X-APPLE-RADIUS=500;X-TITLE=3700 Country Club Dr.:geo:-81.148719,35.210115
END:VEVENT
BEGIN:VEVENT
DTSTART;VALUE=DATE:20200427
DTEND;VALUE=DATE:20200428
DTSTAMP:20260420T183538
CREATED:20200318T142556Z
LAST-MODIFIED:20240718T080758Z
UID:10000261-1587945600-1588031999@carolinas.pga.com
SUMMARY:Wells Fargo Championship Event Qualifying - CANCELED
DESCRIPTION:Due to the event cancellation\, qualifying has also been canceled. If you have registered\, we will reach out regarding refunds.
URL:https://carolinas.pga.com/event/wells-fargo-championship-event-qualifying-canceled/
LOCATION:Gaston Country Club\, 3700 Country Club Dr.\, Gastonia\, North Carolina\, 28056\, United States
CATEGORIES:PGA TOUR,PGA Tour Qualifying
GEO:35.210115;-81.148719
X-APPLE-STRUCTURED-LOCATION;VALUE=URI;X-ADDRESS=Gaston Country Club 3700 Country Club Dr. Gastonia North Carolina 28056 United States;X-APPLE-RADIUS=500;X-TITLE=3700 Country Club Dr.:geo:-81.148719,35.210115
END:VEVENT
BEGIN:VEVENT
DTSTART;VALUE=DATE:20190429
DTEND;VALUE=DATE:20190430
DTSTAMP:20260420T183538
CREATED:20190208T162353Z
LAST-MODIFIED:20240718T072117Z
UID:10000053-1556496000-1556582399@carolinas.pga.com
SUMMARY:PGA Tour Wells Fargo Championship Event Qualifying
DESCRIPTION:
URL:https://carolinas.pga.com/event/pga-tour-wells-fargo-championship-event-qualifying/
LOCATION:Gaston Country Club\, 3700 Country Club Dr.\, Gastonia\, North Carolina\, 28056\, United States
CATEGORIES:PGA TOUR,PGA Tour Qualifying
GEO:35.210115;-81.148719
X-APPLE-STRUCTURED-LOCATION;VALUE=URI;X-ADDRESS=Gaston Country Club 3700 Country Club Dr. Gastonia North Carolina 28056 United States;X-APPLE-RADIUS=500;X-TITLE=3700 Country Club Dr.:geo:-81.148719,35.210115
END:VEVENT
BEGIN:VEVENT
DTSTART;VALUE=DATE:20190425
DTEND;VALUE=DATE:20190426
DTSTAMP:20260420T183538
CREATED:20190208T162352Z
LAST-MODIFIED:20240718T072054Z
UID:10000051-1556150400-1556236799@carolinas.pga.com
SUMMARY:PGA Tour Wells Fargo Championship Pre-Qualifying
DESCRIPTION:
URL:https://carolinas.pga.com/event/pga-tour-wells-fargo-championship-pre-qualifying/
LOCATION:Gaston Country Club\, 3700 Country Club Dr.\, Gastonia\, North Carolina\, 28056\, United States
CATEGORIES:PGA TOUR,PGA Tour Qualifying
GEO:35.210115;-81.148719
X-APPLE-STRUCTURED-LOCATION;VALUE=URI;X-ADDRESS=Gaston Country Club 3700 Country Club Dr. Gastonia North Carolina 28056 United States;X-APPLE-RADIUS=500;X-TITLE=3700 Country Club Dr.:geo:-81.148719,35.210115
END:VEVENT
END:VCALENDAR