BEGIN:VCALENDAR
VERSION:2.0
PRODID:-//Carolinas PGA Section - ECPv6.15.20//NONSGML v1.0//EN
CALSCALE:GREGORIAN
METHOD:PUBLISH
X-ORIGINAL-URL:https://carolinas.pga.com
X-WR-CALDESC:Events for Carolinas PGA Section
REFRESH-INTERVAL;VALUE=DURATION:PT1H
X-Robots-Tag:noindex
X-PUBLISHED-TTL:PT1H
BEGIN:VTIMEZONE
TZID:UTC
BEGIN:STANDARD
TZOFFSETFROM:+0000
TZOFFSETTO:+0000
TZNAME:UTC
DTSTART:20190101T000000
END:STANDARD
END:VTIMEZONE
BEGIN:VEVENT
DTSTART;VALUE=DATE:20200512
DTEND;VALUE=DATE:20200513
DTSTAMP:20260421T165748
CREATED:20200116T150501Z
LAST-MODIFIED:20240718T080239Z
UID:10000233-1589241600-1589327999@carolinas.pga.com
SUMMARY:CPGA Global Golf Sales Mountains (I) Meeting and Golf Challenge
DESCRIPTION:Carolinas PGA Global Golf Sales Spring Area Meetings\nMountains Chapter I Meeting Information \nDate: Tuesday\, May 12th\nLocation: CC of Ashevile – 170 Windsor Rd\, Asheville\, NC 28804\nAttire: Business Casual (jacket & no tie)
URL:https://carolinas.pga.com/event/cpga-global-golf-sales-highlands-i-meeting-and-golf-challenge-2/
LOCATION:CC of Asheville\, 170 Windsor Rd\, Asheville\, NC\, 28804\, United States
CATEGORIES:Chapter Events
GEO:35.640633;-82.555606
X-APPLE-STRUCTURED-LOCATION;VALUE=URI;X-ADDRESS=CC of Asheville 170 Windsor Rd Asheville NC 28804 United States;X-APPLE-RADIUS=500;X-TITLE=170 Windsor Rd:geo:-82.555606,35.640633
END:VEVENT
END:VCALENDAR