BEGIN:VCALENDAR
VERSION:2.0
PRODID:-//Carolinas PGA Section - ECPv6.15.20//NONSGML v1.0//EN
CALSCALE:GREGORIAN
METHOD:PUBLISH
X-WR-CALNAME:Carolinas PGA Section
X-ORIGINAL-URL:https://carolinas.pga.com
X-WR-CALDESC:Events for Carolinas PGA Section
REFRESH-INTERVAL;VALUE=DURATION:PT1H
X-Robots-Tag:noindex
X-PUBLISHED-TTL:PT1H
BEGIN:VTIMEZONE
TZID:UTC
BEGIN:STANDARD
TZOFFSETFROM:+0000
TZOFFSETTO:+0000
TZNAME:UTC
DTSTART:20210101T000000
END:STANDARD
END:VTIMEZONE
BEGIN:VEVENT
DTSTART;VALUE=DATE:20220718
DTEND;VALUE=DATE:20220719
DTSTAMP:20260422T075702
CREATED:20220126T143729Z
LAST-MODIFIED:20240718T084725Z
UID:10000460-1658102400-1658188799@carolinas.pga.com
SUMMARY:Drive\, Chip & Putt Local Qualifier (PILOT)
DESCRIPTION:Drive\, Chip & Putt Local Qualifier\nFacility Name: Forest Oaks Country Club\nLocation: Greensboro\, North Carolina\nEvent Date: Monday\, July 18\, 2022\nRegistration Deadline: Wednesday\, July 13\, 2022 at 4:00PM EDT (Event times for each participant and additional details for this event will be released after the registration deadline.) \nHeath and Safety Policies to Note: To see the full list of Covid-19 Health and Safety Policies for Drive\, Chip\, and Putt\, please visit the link here. Please read through all Covid-19 Health and Safety Policies before attending a Drive\, Chip\, and Putt event. \nFinally\, have fun and enjoy your time participating in Drive\, Chip\, and Putt!
URL:https://carolinas.pga.com/event/drive-chip-putt-local-qualifier-pilot-5/
LOCATION:Forest Oaks Country Club\, 4600 Forest Oaks Dr\, Greensboro\, NC\, 27406\, United States
CATEGORIES:Junior
GEO:35.9905492;-79.709871
X-APPLE-STRUCTURED-LOCATION;VALUE=URI;X-ADDRESS=Forest Oaks Country Club 4600 Forest Oaks Dr Greensboro NC 27406 United States;X-APPLE-RADIUS=500;X-TITLE=4600 Forest Oaks Dr:geo:-79.709871,35.9905492
END:VEVENT
END:VCALENDAR