BEGIN:VCALENDAR
VERSION:2.0
PRODID:-//Carolinas PGA Section - ECPv6.15.20//NONSGML v1.0//EN
CALSCALE:GREGORIAN
METHOD:PUBLISH
X-WR-CALNAME:Carolinas PGA Section
X-ORIGINAL-URL:https://carolinas.pga.com
X-WR-CALDESC:Events for Carolinas PGA Section
REFRESH-INTERVAL;VALUE=DURATION:PT1H
X-Robots-Tag:noindex
X-PUBLISHED-TTL:PT1H
BEGIN:VTIMEZONE
TZID:UTC
BEGIN:STANDARD
TZOFFSETFROM:+0000
TZOFFSETTO:+0000
TZNAME:UTC
DTSTART:20240101T000000
END:STANDARD
END:VTIMEZONE
BEGIN:VEVENT
DTSTART;VALUE=DATE:20250416
DTEND;VALUE=DATE:20250417
DTSTAMP:20260423T010409
CREATED:20250225T135049Z
LAST-MODIFIED:20250225T135049Z
UID:10000717-1744761600-1744847999@carolinas.pga.com
SUMMARY:Springdale Mountain G.O.A.T
DESCRIPTION:Wednesday\, April 16\, 2025\nSpringdale Golf Resort – Canton\, NC\nGolf (Pro)\, Owner (Board Member)\, Associate (Industry Sales Reps) Turf (Superintendent) \nEntry Fee: $100 for Professionals\, $100 for Amateurs \nAmenities Included: Golf\, Prizes\, Lunch \nStart: 10:00 AM Shotgun \nAmateurs to Bring: 3 \nFormat: Scramble (with team handicap) \nHost Professional: Rodney Russell\, PGA\nrodney@springdalegolf.com\n828-235-9116
URL:https://carolinas.pga.com/event/springdale-mountain-g-o-a-t/
LOCATION:Springdale Golf Resort\, 200 Golfwatch Road\, Canton\, North Carolina\, 28716\, United States
CATEGORIES:Pro-Am
ATTACH;FMTTYPE=image/png:https://carolinas.pga.com/wp-content/uploads/sites/3/2024/01/241682057_4235620156485179_8538150961616904009_n-e1704742339929.png
GEO:35.4451713;-82.8111724
X-APPLE-STRUCTURED-LOCATION;VALUE=URI;X-ADDRESS=Springdale Golf Resort 200 Golfwatch Road Canton North Carolina 28716 United States;X-APPLE-RADIUS=500;X-TITLE=200 Golfwatch Road:geo:-82.8111724,35.4451713
END:VEVENT
BEGIN:VEVENT
DTSTART;VALUE=DATE:20250417
DTEND;VALUE=DATE:20250418
DTSTAMP:20260423T010409
CREATED:20250107T140924Z
LAST-MODIFIED:20250107T140943Z
UID:10000682-1744848000-1744934399@carolinas.pga.com
SUMMARY:2025 UNC Health Blue Ridge Jeff Carswell Memorial Pro-Am
DESCRIPTION:Thursday\, April 17\, 2025\nMimosa Hills Golf Club – Morganton\, NC \nEntry Fee: Professional $75\, Amateurs $75\nAmenities Included: All Golf Fees\, Lunch and Dinner \nStarting Time: 12:00 PM Shotgun\nFormat: Best Gross plus Best Net / Individual for Pros \n# of Amateurs To Bring: 0\nHost Professional: Jimmy Piercy\, PGA\nPhone: 828-443-3349\njimmypiercy@pga.com
URL:https://carolinas.pga.com/event/2025-unc-health-blue-ridge-jeff-carswell-memorial-pro-am/
LOCATION:Mimosa Hills Golf Club\, 611 Golf Course Rd\, Morganton\, 28655\, United States
CATEGORIES:Pro-Am
ATTACH;FMTTYPE=image/jpeg:https://carolinas.pga.com/wp-content/uploads/sites/3/2019/03/Mimosa-Hills-CC.jpg
GEO:35.724672;-81.710224
X-APPLE-STRUCTURED-LOCATION;VALUE=URI;X-ADDRESS=Mimosa Hills Golf Club 611 Golf Course Rd Morganton 28655 United States;X-APPLE-RADIUS=500;X-TITLE=611 Golf Course Rd:geo:-81.710224,35.724672
END:VEVENT
BEGIN:VEVENT
DTSTART;VALUE=DATE:20250421
DTEND;VALUE=DATE:20250422
DTSTAMP:20260423T010409
CREATED:20250204T183008Z
LAST-MODIFIED:20250204T183008Z
UID:10000714-1745193600-1745279999@carolinas.pga.com
SUMMARY:Emory Stafford/PGA Reach Memorial Pro-Am
DESCRIPTION:Monday\, April 21st\, 2025\nSea Scape Golf Links – Kitty Hawk\, NC\nEntry Fee: $125 for Professionals\, $125 for Amateurs \nAmenities Included: Greens Fees\, Cart Fees\, Prizes\, Awards and Lunch \nStarting Time: 10:00 AM Shotgun \n# of Amateurs To Bring: 3 \nFormat: One best ball gross + One best ball net\, Professional contest \nHost Professional: Dan O’Boyle\, PGA.\nPhone: 252-261-2158\nEmail: danoboylepga@gmail.com
URL:https://carolinas.pga.com/event/emory-stafford-pga-reach-memorial-pro-am-2/
LOCATION:Sea Scape Golf Links\, 300 W Eckner St\, Kitty Hawk\, North Carolina\, 27949
CATEGORIES:Pro-Am
ATTACH;FMTTYPE=image/png:https://carolinas.pga.com/wp-content/uploads/sites/3/2019/02/Sea-Scape.png
GEO:36.0834633;-75.7078909
X-APPLE-STRUCTURED-LOCATION;VALUE=URI;X-ADDRESS=Sea Scape Golf Links 300 W Eckner St Kitty Hawk North Carolina 27949;X-APPLE-RADIUS=500;X-TITLE=300 W Eckner St:geo:-75.7078909,36.0834633
END:VEVENT
END:VCALENDAR