BEGIN:VCALENDAR
VERSION:2.0
PRODID:-//Carolinas PGA Section - ECPv6.15.20//NONSGML v1.0//EN
CALSCALE:GREGORIAN
METHOD:PUBLISH
X-WR-CALNAME:Carolinas PGA Section
X-ORIGINAL-URL:https://carolinas.pga.com
X-WR-CALDESC:Events for Carolinas PGA Section
REFRESH-INTERVAL;VALUE=DURATION:PT1H
X-Robots-Tag:noindex
X-PUBLISHED-TTL:PT1H
BEGIN:VTIMEZONE
TZID:UTC
BEGIN:STANDARD
TZOFFSETFROM:+0000
TZOFFSETTO:+0000
TZNAME:UTC
DTSTART:20240101T000000
END:STANDARD
END:VTIMEZONE
BEGIN:VEVENT
DTSTART;VALUE=DATE:20250301
DTEND;VALUE=DATE:20250302
DTSTAMP:20260420T085948
CREATED:20241101T194936Z
LAST-MODIFIED:20241101T194936Z
UID:10000676-1740787200-1740873599@carolinas.pga.com
SUMMARY:E-Z-GO Old South Pro-Am
DESCRIPTION:Saturday\, March 1\, 2025\nOld South Golf Links – Bluffton\, SC\nREGISTRATION FORM\nEntry Fee: $100.00 for Professionals & Amateurs \nAmenities Included: range\, golf\, prizes and awards party with dinner and drinks. \nStarting Time: 10:00 AM Shotgun \n# of Amateurs To Bring: 4 \nFormat: 1 Best Ball Gross and 1 Best Ball Net Using 2 Different Balls \nProfessionals over 60 play white tees. Amateurs over 60 have the option of playing white tees with adjusted\nHDCP and Seniors over 70 have the option of playing the green tees with adjusted HDCP. \nYou can mail your entry form and check to:\nOld South Golf Links\, 50 Buckingham Plantation Drive\, Bluffton SC 29910 or fax it to (843)837-7375. The team\nProfessional must submit the completed entry form along with each amateur GHIN # to Old South by February\n25th. \nHost Professional: Jim Uremovich\, PGA.\nPhone: 843-837-7155 \n 
URL:https://carolinas.pga.com/event/e-z-go-old-south-pro-am-2/
LOCATION:Old South Golf Links\, 50 Buckingham Drive\, Bluffton\, South Carolina\, 29910\, United States
CATEGORIES:Pro-Am
ATTACH;FMTTYPE=image/png:https://carolinas.pga.com/wp-content/uploads/sites/3/2019/12/Old-South-GL.png
GEO:32.2335264;-80.8139685
X-APPLE-STRUCTURED-LOCATION;VALUE=URI;X-ADDRESS=Old South Golf Links 50 Buckingham Drive Bluffton South Carolina 29910 United States;X-APPLE-RADIUS=500;X-TITLE=50 Buckingham Drive:geo:-80.8139685,32.2335264
END:VEVENT
BEGIN:VEVENT
DTSTART;VALUE=DATE:20250317
DTEND;VALUE=DATE:20250318
DTSTAMP:20260420T085948
CREATED:20240830T181101Z
LAST-MODIFIED:20240830T181151Z
UID:10000665-1742169600-1742255999@carolinas.pga.com
SUMMARY:Ponderosa C.C. - P.W.G.A. Pro-Lady
DESCRIPTION:Monday\, March 17\, 2025\nPonderosa CC – Leesville\, SC\nEntry Fee: Professional $80\, Amateur $80\nAmenities Included: Light Breakfast prior to play & Dinner\, Cocktails & awards follow \nStarting Time: 11:00 AM Shotgun \n# of Amateurs To Bring: 2 \nFormat: Texas Scramble \nHost Professional: Cullie Todd\, PGA\nEmail: ponderosagm.pga@yahoo.com
URL:https://carolinas.pga.com/event/ponderosa-c-c-p-w-g-a-pro-lady/
LOCATION:Ponderosa Country Club\, 190 Durango Dr\, Leesville\, SC\, 29070\, United States
CATEGORIES:Pro-Am
ATTACH;FMTTYPE=image/png:https://carolinas.pga.com/wp-content/uploads/sites/3/2019/12/Ponderosa-CC.png
GEO:33.9400098;-81.5448418
X-APPLE-STRUCTURED-LOCATION;VALUE=URI;X-ADDRESS=Ponderosa Country Club 190 Durango Dr Leesville SC 29070 United States;X-APPLE-RADIUS=500;X-TITLE=190 Durango Dr:geo:-81.5448418,33.9400098
END:VEVENT
BEGIN:VEVENT
DTSTART;VALUE=DATE:20250323
DTEND;VALUE=DATE:20250324
DTSTAMP:20260420T085948
CREATED:20250117T135854Z
LAST-MODIFIED:20250117T135854Z
UID:10000705-1742688000-1742774399@carolinas.pga.com
SUMMARY:PAT - The Hackler Course at Coastal Carolina University
DESCRIPTION:Sunday\, March 23\, 2025\nThe Hackler Golf Course at CCU – Conway\, SC\nSite Charges $80\nIncluded: Cart\, Range Balls and Lunch\nMale Yardage: 6\,367\nPassing Score: 158\nPGM Eligibility Score:  84\nFemale Yardage: 5\,400\nPassing Score: 158\nPGM Eligibility Score:  84\nClick here to register
URL:https://carolinas.pga.com/event/pat-the-hackler-course-at-coastal-carolina-university-25-2/
LOCATION:The Hackler Course at Coastal Carolina University\, 107 Citadel Dr\, Conway\, SC\, 29526-8871\, United States
CATEGORIES:PAT
ATTACH;FMTTYPE=image/png:https://carolinas.pga.com/wp-content/uploads/sites/3/2019/02/hackler.png
GEO:33.789807;-79.00963
X-APPLE-STRUCTURED-LOCATION;VALUE=URI;X-ADDRESS=The Hackler Course at Coastal Carolina University 107 Citadel Dr Conway SC 29526-8871 United States;X-APPLE-RADIUS=500;X-TITLE=107 Citadel Dr:geo:-79.00963,33.789807
END:VEVENT
END:VCALENDAR