BEGIN:VCALENDAR
VERSION:2.0
PRODID:-//Carolinas PGA Section - ECPv6.15.20//NONSGML v1.0//EN
CALSCALE:GREGORIAN
METHOD:PUBLISH
X-WR-CALNAME:Carolinas PGA Section
X-ORIGINAL-URL:https://carolinas.pga.com
X-WR-CALDESC:Events for Carolinas PGA Section
REFRESH-INTERVAL;VALUE=DURATION:PT1H
X-Robots-Tag:noindex
X-PUBLISHED-TTL:PT1H
BEGIN:VTIMEZONE
TZID:UTC
BEGIN:STANDARD
TZOFFSETFROM:+0000
TZOFFSETTO:+0000
TZNAME:UTC
DTSTART:20200101T000000
END:STANDARD
END:VTIMEZONE
BEGIN:VEVENT
DTSTART;TZID=UTC:20210223T120000
DTEND;TZID=UTC:20210223T130000
DTSTAMP:20260424T074145
CREATED:20210108T171847Z
LAST-MODIFIED:20240718T082302Z
UID:10000340-1614081600-1614085200@carolinas.pga.com
SUMMARY:Q&A with Chris Como – from Tiger to DeChambeau
DESCRIPTION:Q&A with Chris Como – from Tiger to DeChambeau\nChris Como is the youngest member of Golf Magazine’s “Top 100 Teachers in America” working with top tour players – most notably Tiger Woods from 2014-2017 and currently\, Bryson DeChambeau. Chris will spend the session fielding your questions as he shares his vast real-world teaching experience on biomechanics of the golf swing.
URL:https://carolinas.pga.com/event/qa-with-chris-como-from-tiger-to-dechambeau/
CATEGORIES:SUPER SHOW
ATTACH;FMTTYPE=image/png:https://carolinas.pga.com/wp-content/uploads/sites/3/2021/01/Event-Feature-Images-8.png
END:VEVENT
END:VCALENDAR