BEGIN:VCALENDAR
VERSION:2.0
PRODID:-//Carolinas PGA Section - ECPv6.15.20//NONSGML v1.0//EN
CALSCALE:GREGORIAN
METHOD:PUBLISH
X-ORIGINAL-URL:https://carolinas.pga.com
X-WR-CALDESC:Events for Carolinas PGA Section
REFRESH-INTERVAL;VALUE=DURATION:PT1H
X-Robots-Tag:noindex
X-PUBLISHED-TTL:PT1H
BEGIN:VTIMEZONE
TZID:UTC
BEGIN:STANDARD
TZOFFSETFROM:+0000
TZOFFSETTO:+0000
TZNAME:UTC
DTSTART:20200101T000000
END:STANDARD
END:VTIMEZONE
BEGIN:VEVENT
DTSTART;VALUE=DATE:20210219
DTEND;VALUE=DATE:20210220
DTSTAMP:20260422T004815
CREATED:20210118T151913Z
LAST-MODIFIED:20240718T082454Z
UID:10000351-1613692800-1613779199@carolinas.pga.com
SUMMARY:Professional Development - Week in Review
DESCRIPTION:
URL:https://carolinas.pga.com/event/professional-development-week-in-review/
CATEGORIES:SUPER SHOW
END:VEVENT
END:VCALENDAR