BEGIN:VCALENDAR
VERSION:2.0
PRODID:-//Carolinas PGA Section - ECPv6.15.20//NONSGML v1.0//EN
CALSCALE:GREGORIAN
METHOD:PUBLISH
X-WR-CALNAME:Carolinas PGA Section
X-ORIGINAL-URL:https://carolinas.pga.com
X-WR-CALDESC:Events for Carolinas PGA Section
REFRESH-INTERVAL;VALUE=DURATION:PT1H
X-Robots-Tag:noindex
X-PUBLISHED-TTL:PT1H
BEGIN:VTIMEZONE
TZID:UTC
BEGIN:STANDARD
TZOFFSETFROM:+0000
TZOFFSETTO:+0000
TZNAME:UTC
DTSTART:20250101T000000
END:STANDARD
END:VTIMEZONE
BEGIN:VEVENT
DTSTART;VALUE=DATE:20260803
DTEND;VALUE=DATE:20260804
DTSTAMP:20260424T123246
CREATED:20260309T132403Z
LAST-MODIFIED:20260309T132422Z
UID:10000841-1785715200-1785801599@carolinas.pga.com
SUMMARY:Peach Festival Pro-Am
DESCRIPTION:Monday\, August 3rd\, 2026\nCC of Lexington – Lexington\, SC\nEntry Fee: $150 for Professionals\, $150 for Amateurs \nAmenities Included: Lunch\, Dinner\, Tee Gift \nStarting Time: 12:00 PM Shotgun \n# of Amateurs To Bring: 1-3 \nFormat: 1 Gross + 1 Net Ball \nHost Professional: Dustin Perry\, PGA\nPhone: 803-359-2515\ngolfprofessional@ccoflexington.com \n\n\n\n\n\n\n\n\n\n\n\n 
URL:https://carolinas.pga.com/event/peach-festival-pro-am-3/
LOCATION:Country Club of Lexington\, 1066 Barr Road\, Lexington\, South Carolina\, 29072\, United States
CATEGORIES:Pro-Am
ATTACH;FMTTYPE=image/png:https://carolinas.pga.com/wp-content/uploads/sites/3/2019/07/CC-of-Lexington.png
GEO:33.9416158;-81.2905862
X-APPLE-STRUCTURED-LOCATION;VALUE=URI;X-ADDRESS=Country Club of Lexington 1066 Barr Road Lexington South Carolina 29072 United States;X-APPLE-RADIUS=500;X-TITLE=1066 Barr Road:geo:-81.2905862,33.9416158
END:VEVENT
BEGIN:VEVENT
DTSTART;VALUE=DATE:20260803
DTEND;VALUE=DATE:20260805
DTSTAMP:20260424T123246
CREATED:20251209T150239Z
LAST-MODIFIED:20260106T142411Z
UID:10000808-1785715200-1785887999@carolinas.pga.com
SUMMARY:Rolling Hills CC Pro-Am
DESCRIPTION:Monday-Tuesday\, August 3-4\, 2026\nRolling Hills CC – Monroe\, NC\nEntry Fee: $250 for Professionals\, $250 for Amateurs \nAmenities Included: Golf\, Breakfast\, and Lunch after round each day \nStarting Time: 10:00 Shotgun \n# of Am’s to Bring: Contact Host Facility \nFormat: 1 Best Ball Gross and 1 Best Ball Net \nHost Professional: Jeff Avant\, PGA.\nPro Shop: 704-283-8201
URL:https://carolinas.pga.com/event/rolling-hills-cc-pro-am-2/
LOCATION:Rolling Hills Country Club\, 2722W Roosevelt Blvd\, Monroe\, North Carolina\, 28110\, United States
CATEGORIES:Pro-Am
ATTACH;FMTTYPE=image/jpeg:https://carolinas.pga.com/wp-content/uploads/sites/3/2019/02/Rolling-Hills-CC.jpg
GEO:35.0219416;-80.5702314
X-APPLE-STRUCTURED-LOCATION;VALUE=URI;X-ADDRESS=Rolling Hills Country Club 2722W Roosevelt Blvd Monroe North Carolina 28110 United States;X-APPLE-RADIUS=500;X-TITLE=2722W Roosevelt Blvd:geo:-80.5702314,35.0219416
END:VEVENT
BEGIN:VEVENT
DTSTART;VALUE=DATE:20260824
DTEND;VALUE=DATE:20260826
DTSTAMP:20260424T123246
CREATED:20260416T191029Z
LAST-MODIFIED:20260416T191029Z
UID:10000850-1787529600-1787702399@carolinas.pga.com
SUMMARY:12 Oaks Pro-am Presented by Stitch Golf
DESCRIPTION:Monday\, August 24-25\, 2026\nThe Club at 12 Oaks – Apex\, NC\nEntry Fee: $2\,500 per team\nStart time: 12:00PM Shotgun\nFormat: 1 Net + 1 Gross\nHost Professional: Luke Russell (lrussell@theclubat12oaks.com) \nYour team entry includes:\nA four-player team (3 amateurs + 1 PGA Professional) \nPremium tee gifts for each amateur\, valued at approximately $350 retail \nLunch provided both days \nA full breakfast buffet on August 25th to start the day \nA signature chef prepared steak dinner on the evening of August 24th\, served with all the fixin’s  \nBeverages provided on the course throughout both rounds \nCompetition & Prizes: \nProfessional Purse: $4\,000 cash (individual competition) \nTeam Purse: $7\,500 in gift certificates \nOptional Events: \nTeam Hat Pool: Low 3 teams paid each day \nSkins Game: $50 Professional skins paid each round \nAmateur Skins: Gross + Net skins paid each round \nWedge Contest: Hosted on evening of 24th at dinner
URL:https://carolinas.pga.com/event/12-oaks-pro-am/
LOCATION:The Club at 12 Oaks\, 2004 Green Oak Parkway\, Holly Springs\, 27540\, United States
CATEGORIES:Pro-Am
ATTACH;FMTTYPE=image/avif:https://carolinas.pga.com/wp-content/uploads/sites/3/2026/04/brand-image-d7226ae2-41f5-4fea-9a3d-78b89fa6bb44.avif
GEO:35.6716365;-78.8778794
X-APPLE-STRUCTURED-LOCATION;VALUE=URI;X-ADDRESS=The Club at 12 Oaks 2004 Green Oak Parkway Holly Springs 27540 United States;X-APPLE-RADIUS=500;X-TITLE=2004 Green Oak Parkway:geo:-78.8778794,35.6716365
END:VEVENT
END:VCALENDAR