BEGIN:VCALENDAR
VERSION:2.0
PRODID:-//Carolinas PGA Section - ECPv6.15.20//NONSGML v1.0//EN
CALSCALE:GREGORIAN
METHOD:PUBLISH
X-ORIGINAL-URL:https://carolinas.pga.com
X-WR-CALDESC:Events for Carolinas PGA Section
REFRESH-INTERVAL;VALUE=DURATION:PT1H
X-Robots-Tag:noindex
X-PUBLISHED-TTL:PT1H
BEGIN:VTIMEZONE
TZID:UTC
BEGIN:STANDARD
TZOFFSETFROM:+0000
TZOFFSETTO:+0000
TZNAME:UTC
DTSTART:20190101T000000
END:STANDARD
END:VTIMEZONE
BEGIN:VEVENT
DTSTART;VALUE=DATE:20211130
DTEND;VALUE=DATE:20211203
DTSTAMP:20260424T074120
CREATED:20210414T191109Z
LAST-MODIFIED:20240718T083358Z
UID:10000400-1638230400-1638489599@carolinas.pga.com
SUMMARY:E-Z-GO CPGA Pro-Pro Championship
DESCRIPTION:
URL:https://carolinas.pga.com/event/e-z-go-cpga-pro-pro-championship/
CATEGORIES:Major & Section,Majors
END:VEVENT
BEGIN:VEVENT
DTSTART;VALUE=DATE:20211026
DTEND;VALUE=DATE:20211028
DTSTAMP:20260424T074120
CREATED:20211013T170817Z
LAST-MODIFIED:20240718T083800Z
UID:10000418-1635206400-1635379199@carolinas.pga.com
SUMMARY:ROLEX CPGA Match Play Championship
DESCRIPTION:
URL:https://carolinas.pga.com/event/omega-cpga-match-play-championship-2-2/
CATEGORIES:Major & Section,Majors
END:VEVENT
BEGIN:VEVENT
DTSTART;VALUE=DATE:20210913
DTEND;VALUE=DATE:20210914
DTSTAMP:20260424T074120
CREATED:20210104T172810Z
LAST-MODIFIED:20240718T081931Z
UID:10000320-1631491200-1631577599@carolinas.pga.com
SUMMARY:Club Car CPGA Pro-Official Championship
DESCRIPTION:Tournament Information Coming Soon!
URL:https://carolinas.pga.com/event/club-car-cpga-pro-official-championship-2/
LOCATION:Kiawah Island Club – Ocean Course\, 1 Sanctuary Beach Dr.\, Kiawah Island\, South Carolina\, 29455
CATEGORIES:Major & Section,Majors,Majors / Assistants' Assoc
GEO:32.6038845;-80.094542
X-APPLE-STRUCTURED-LOCATION;VALUE=URI;X-ADDRESS=Kiawah Island Club – Ocean Course 1 Sanctuary Beach Dr. Kiawah Island South Carolina 29455;X-APPLE-RADIUS=500;X-TITLE=1 Sanctuary Beach Dr.:geo:-80.094542,32.6038845
END:VEVENT
BEGIN:VEVENT
DTSTART;VALUE=DATE:20210823
DTEND;VALUE=DATE:20210825
DTSTAMP:20260424T074120
CREATED:20210104T172313Z
LAST-MODIFIED:20240718T081921Z
UID:10000319-1629676800-1629849599@carolinas.pga.com
SUMMARY:National Car Rental CPGA Assistant Championship
DESCRIPTION:Tournament Information Coming Soon!
URL:https://carolinas.pga.com/event/national-car-rental-cpga-assistant-championship/
LOCATION:Palmetto Club\, 275 Berrie Road\, Aiken\, South Carolina\, 29801\, United States
CATEGORIES:Major & Section,Majors,Majors / Assistants' Assoc
GEO:33.5461259;-81.7255875
X-APPLE-STRUCTURED-LOCATION;VALUE=URI;X-ADDRESS=Palmetto Club 275 Berrie Road Aiken South Carolina 29801 United States;X-APPLE-RADIUS=500;X-TITLE=275 Berrie Road:geo:-81.7255875,33.5461259
END:VEVENT
BEGIN:VEVENT
DTSTART;VALUE=DATE:20210817
DTEND;VALUE=DATE:20210820
DTSTAMP:20260424T074120
CREATED:20210104T172154Z
LAST-MODIFIED:20240718T081910Z
UID:10000318-1629158400-1629417599@carolinas.pga.com
SUMMARY:97th Truist Carolinas Open
DESCRIPTION:Tournament Information Coming Soon!
URL:https://carolinas.pga.com/event/97th-truist-carolinas-open/
LOCATION:Bryan Park\, 6275 Bryan Park Road\, Greensboro\, North Carolina\, 27214\, United States
CATEGORIES:Major & Section,Majors
GEO:36.1795608;-79.7335639
X-APPLE-STRUCTURED-LOCATION;VALUE=URI;X-ADDRESS=Bryan Park 6275 Bryan Park Road Greensboro North Carolina 27214 United States;X-APPLE-RADIUS=500;X-TITLE=6275 Bryan Park Road:geo:-79.7335639,36.1795608
END:VEVENT
BEGIN:VEVENT
DTSTART;VALUE=DATE:20210809
DTEND;VALUE=DATE:20210811
DTSTAMP:20260424T074120
CREATED:20210104T165926Z
LAST-MODIFIED:20240718T081846Z
UID:10000316-1628467200-1628639999@carolinas.pga.com
SUMMARY:Carolinas Senior PGA Professional Championship
DESCRIPTION:Tournament Information Coming Soon!
URL:https://carolinas.pga.com/event/carolinas-senior-pga-professional-championship-2/
LOCATION:Florence CC\, 450 Country Club Blvd\, Florence\, South Carolina\, 29501
CATEGORIES:Major & Section,Majors,Senior
GEO:34.1811904;-79.7989422
X-APPLE-STRUCTURED-LOCATION;VALUE=URI;X-ADDRESS=Florence CC 450 Country Club Blvd Florence South Carolina 29501;X-APPLE-RADIUS=500;X-TITLE=450 Country Club Blvd:geo:-79.7989422,34.1811904
END:VEVENT
BEGIN:VEVENT
DTSTART;VALUE=DATE:20210727
DTEND;VALUE=DATE:20210730
DTSTAMP:20260424T074120
CREATED:20210104T163843Z
LAST-MODIFIED:20240718T081825Z
UID:10000314-1627344000-1627603199@carolinas.pga.com
SUMMARY:Carolinas PGA Professional Championship
DESCRIPTION:Tournament Information Coming Soon!
URL:https://carolinas.pga.com/event/carolinas-pga-professional-championship/
LOCATION:Reserve Club at St. James Plantation\, 4061 Wyndmere Dr\, Southport\, NC\, 28461\, United States
CATEGORIES:Major & Section,Majors
GEO:33.9518712;-78.1045008
X-APPLE-STRUCTURED-LOCATION;VALUE=URI;X-ADDRESS=Reserve Club at St. James Plantation 4061 Wyndmere Dr Southport NC 28461 United States;X-APPLE-RADIUS=500;X-TITLE=4061 Wyndmere Dr:geo:-78.1045008,33.9518712
END:VEVENT
BEGIN:VEVENT
DTSTART;VALUE=DATE:20210719
DTEND;VALUE=DATE:20210721
DTSTAMP:20260424T074120
CREATED:20210127T233352Z
LAST-MODIFIED:20240718T083034Z
UID:10000383-1626652800-1626825599@carolinas.pga.com
SUMMARY:CPGA Women's Championship
DESCRIPTION:Tournament Information Coming Soon!
URL:https://carolinas.pga.com/event/cpga-womens-championship/
LOCATION:Pine Needles Lodge & Golf Club\, 1005 Midland Road\, Southern Pines\, NC\, 28387\, United States
CATEGORIES:Major & Section,Majors
GEO:35.1969258;-79.3918873
X-APPLE-STRUCTURED-LOCATION;VALUE=URI;X-ADDRESS=Pine Needles Lodge & Golf Club 1005 Midland Road Southern Pines NC 28387 United States;X-APPLE-RADIUS=500;X-TITLE=1005 Midland Road:geo:-79.3918873,35.1969258
END:VEVENT
BEGIN:VEVENT
DTSTART;VALUE=DATE:20210712
DTEND;VALUE=DATE:20210714
DTSTAMP:20260424T074120
CREATED:20210104T163455Z
LAST-MODIFIED:20240718T081815Z
UID:10000313-1626048000-1626220799@carolinas.pga.com
SUMMARY:CPGA Pro-Assistant Championship
DESCRIPTION:Tournament Information Coming Soon!
URL:https://carolinas.pga.com/event/cpga-pro-assistant-championship-3/
LOCATION:River Landing Country Club\, 116 Paddlewheel Dr.\, Wallace\, North Carolina\, 28466\, United States
CATEGORIES:Major & Section,Majors
GEO:34.759649;-77.945658
X-APPLE-STRUCTURED-LOCATION;VALUE=URI;X-ADDRESS=River Landing Country Club 116 Paddlewheel Dr. Wallace North Carolina 28466 United States;X-APPLE-RADIUS=500;X-TITLE=116 Paddlewheel Dr.:geo:-77.945658,34.759649
END:VEVENT
BEGIN:VEVENT
DTSTART;VALUE=DATE:20210622
DTEND;VALUE=DATE:20210624
DTSTAMP:20260424T074120
CREATED:20210115T210752Z
LAST-MODIFIED:20240718T082424Z
UID:10000348-1624320000-1624492799@carolinas.pga.com
SUMMARY:Harrah's Cherokee Casino Resort CPGA Pro-Am
DESCRIPTION:Tournament Information Coming Soon!
URL:https://carolinas.pga.com/event/harrahs-cherokee-casino-resort-cpga-pro-am-2/
LOCATION:Sequoyah National Golf Club\, 79 Cahons Road\, Whittier\, North Carolina\, 28789\, United States
CATEGORIES:Major & Section,Majors,Pro-Am
ATTACH;FMTTYPE=image/png:https://carolinas.pga.com/wp-content/uploads/sites/3/2019/02/Harrahs-Logo.png
GEO:35.432725;-83.3357859
X-APPLE-STRUCTURED-LOCATION;VALUE=URI;X-ADDRESS=Sequoyah National Golf Club 79 Cahons Road Whittier North Carolina 28789 United States;X-APPLE-RADIUS=500;X-TITLE=79 Cahons Road:geo:-83.3357859,35.432725
END:VEVENT
BEGIN:VEVENT
DTSTART;VALUE=DATE:20210608
DTEND;VALUE=DATE:20210610
DTSTAMP:20260424T074120
CREATED:20210104T162421Z
LAST-MODIFIED:20240718T081741Z
UID:10000310-1623110400-1623283199@carolinas.pga.com
SUMMARY:57th North Carolina Open
DESCRIPTION:Tournament Information Coming Soon!
URL:https://carolinas.pga.com/event/57th-north-carolina-open/
LOCATION:Gaston Country Club\, 3700 Country Club Dr.\, Gastonia\, North Carolina\, 28056\, United States
CATEGORIES:Major & Section,Majors
GEO:35.210115;-81.148719
X-APPLE-STRUCTURED-LOCATION;VALUE=URI;X-ADDRESS=Gaston Country Club 3700 Country Club Dr. Gastonia North Carolina 28056 United States;X-APPLE-RADIUS=500;X-TITLE=3700 Country Club Dr.:geo:-81.148719,35.210115
END:VEVENT
BEGIN:VEVENT
DTSTART;VALUE=DATE:20210511
DTEND;VALUE=DATE:20210513
DTSTAMP:20260424T074120
CREATED:20210104T162129Z
LAST-MODIFIED:20240718T081715Z
UID:10000308-1620691200-1620863999@carolinas.pga.com
SUMMARY:70th PlayGolfMyrtleBeach.com SC Open
DESCRIPTION:Tournament Information Coming Soon!
URL:https://carolinas.pga.com/event/70th-playgolfmyrtlebeach-com-sc-open/
LOCATION:TPC Myrtle Beach\, 1199 Tpc Blvd\, Murrells Inlet\, SC\, 29576\, United States
CATEGORIES:Major & Section,Majors
GEO:33.5849094;-79.0642408
X-APPLE-STRUCTURED-LOCATION;VALUE=URI;X-ADDRESS=TPC Myrtle Beach 1199 Tpc Blvd Murrells Inlet SC 29576 United States;X-APPLE-RADIUS=500;X-TITLE=1199 Tpc Blvd:geo:-79.0642408,33.5849094
END:VEVENT
BEGIN:VEVENT
DTSTART;VALUE=DATE:20210412
DTEND;VALUE=DATE:20210414
DTSTAMP:20260424T074120
CREATED:20210104T161527Z
LAST-MODIFIED:20240718T081641Z
UID:10000305-1618185600-1618358399@carolinas.pga.com
SUMMARY:CPGA Carolinas Senior Open
DESCRIPTION:Tournament Information Coming Soon!
URL:https://carolinas.pga.com/event/cpga-carolinas-senior-open-2/
LOCATION:Greensboro Country Club  – Farm\, 5121 Hedrick Dr\, Greensboro\, North Carolina\, 27410\, United States
CATEGORIES:Major & Section,Majors
GEO:36.1548548;-79.8834314
X-APPLE-STRUCTURED-LOCATION;VALUE=URI;X-ADDRESS=Greensboro Country Club  – Farm 5121 Hedrick Dr Greensboro North Carolina 27410 United States;X-APPLE-RADIUS=500;X-TITLE=5121 Hedrick Dr:geo:-79.8834314,36.1548548
END:VEVENT
BEGIN:VEVENT
DTSTART;VALUE=DATE:20210405
DTEND;VALUE=DATE:20210407
DTSTAMP:20260424T074120
CREATED:20210104T155504Z
LAST-MODIFIED:20240718T081611Z
UID:10000303-1617580800-1617753599@carolinas.pga.com
SUMMARY:Tar Heel Cup Matches
DESCRIPTION:The Tar Heel Cup Matches are an annual friendly event between the top eight PGA Professionals and top eight amateur golfers in North Carolina. \nThe Tar Heel Cup format consists of one day of Four-Ball matches and one day of Singles matches with one point awarded to the winner of each match. It requires 6 1/2 points to win the Cup. As the defending champions\, the NC Amateurs only need 6 points to retain the title.
URL:https://carolinas.pga.com/event/tar-heel-cup-matches-canceled-2/
LOCATION:River Landing Country Club\, 116 Paddlewheel Dr.\, Wallace\, North Carolina\, 28466\, United States
CATEGORIES:Major & Section,Majors
ATTACH;FMTTYPE=image/png:https://carolinas.pga.com/wp-content/uploads/sites/3/2019/12/River-Landing.png
GEO:34.759649;-77.945658
X-APPLE-STRUCTURED-LOCATION;VALUE=URI;X-ADDRESS=River Landing Country Club 116 Paddlewheel Dr. Wallace North Carolina 28466 United States;X-APPLE-RADIUS=500;X-TITLE=116 Paddlewheel Dr.:geo:-77.945658,34.759649
END:VEVENT
BEGIN:VEVENT
DTSTART;VALUE=DATE:20210322
DTEND;VALUE=DATE:20210324
DTSTAMP:20260424T074120
CREATED:20210104T161331Z
LAST-MODIFIED:20240718T081628Z
UID:10000304-1616371200-1616543999@carolinas.pga.com
SUMMARY:CPGA Players Championship
DESCRIPTION:Tournament Information Coming Soon!
URL:https://carolinas.pga.com/event/cpga-players-championship/
LOCATION:Columbia Country Club\, 135 Columbia Club Dr W\, Blythewood\, South Carolina\, 29016-9459\, United States
CATEGORIES:Major & Section,Majors
GEO:34.1824184;-80.9304508
X-APPLE-STRUCTURED-LOCATION;VALUE=URI;X-ADDRESS=Columbia Country Club 135 Columbia Club Dr W Blythewood South Carolina 29016-9459 United States;X-APPLE-RADIUS=500;X-TITLE=135 Columbia Club Dr W:geo:-80.9304508,34.1824184
END:VEVENT
BEGIN:VEVENT
DTSTART;VALUE=DATE:20201201
DTEND;VALUE=DATE:20201204
DTSTAMP:20260424T074120
CREATED:20200102T195943Z
LAST-MODIFIED:20240718T075918Z
UID:10000217-1606780800-1607039999@carolinas.pga.com
SUMMARY:E-Z-GO CPGA Pro-Pro Championship
DESCRIPTION:
URL:https://carolinas.pga.com/event/e-z-go-ahead-cpga-pro-pro-championship/
LOCATION:Pinehurst Resort\, 80 Carolina Vista Dr\, Pinehurst\, NC\, 28374\, United States
CATEGORIES:Major & Section,Majors,Majors / Senior
GEO:35.195671;-79.473734
X-APPLE-STRUCTURED-LOCATION;VALUE=URI;X-ADDRESS=Pinehurst Resort 80 Carolina Vista Dr Pinehurst NC 28374 United States;X-APPLE-RADIUS=500;X-TITLE=80 Carolina Vista Dr:geo:-79.473734,35.195671
END:VEVENT
BEGIN:VEVENT
DTSTART;VALUE=DATE:20201026
DTEND;VALUE=DATE:20201028
DTSTAMP:20260424T074120
CREATED:20200102T183817Z
LAST-MODIFIED:20240718T075545Z
UID:10000201-1603670400-1603843199@carolinas.pga.com
SUMMARY:CPGA North Carolina Senior Open *NEW DATE*
DESCRIPTION:
URL:https://carolinas.pga.com/event/cpga-north-carolina-senior-open/
LOCATION:Old North State\, 201 Old North State Ln\, New London\, NC\, 28127\, United States
CATEGORIES:Major & Section,Majors,Majors / Senior
GEO:35.4691458;-80.1012546
X-APPLE-STRUCTURED-LOCATION;VALUE=URI;X-ADDRESS=Old North State 201 Old North State Ln New London NC 28127 United States;X-APPLE-RADIUS=500;X-TITLE=201 Old North State Ln:geo:-80.1012546,35.4691458
END:VEVENT
BEGIN:VEVENT
DTSTART;VALUE=DATE:20201020
DTEND;VALUE=DATE:20201022
DTSTAMP:20260424T074120
CREATED:20200102T195818Z
LAST-MODIFIED:20240718T075905Z
UID:10000216-1603152000-1603324799@carolinas.pga.com
SUMMARY:OMEGA CPGA Match Play Championship
DESCRIPTION:
URL:https://carolinas.pga.com/event/omega-cpga-match-play-championship-2/
LOCATION:Linville Golf Club\, 83 Roseboro Rd\, Linville\, NC\, 28646\, United States
CATEGORIES:Major & Section,Majors
GEO:36.0545206;-81.8538727
X-APPLE-STRUCTURED-LOCATION;VALUE=URI;X-ADDRESS=Linville Golf Club 83 Roseboro Rd Linville NC 28646 United States;X-APPLE-RADIUS=500;X-TITLE=83 Roseboro Rd:geo:-81.8538727,36.0545206
END:VEVENT
BEGIN:VEVENT
DTSTART;VALUE=DATE:20201012
DTEND;VALUE=DATE:20201014
DTSTAMP:20260424T074120
CREATED:20200102T195107Z
LAST-MODIFIED:20240718T075837Z
UID:10000214-1602460800-1602633599@carolinas.pga.com
SUMMARY:Harrah's Cherokee Casino Resort CPGA Pro-Am
DESCRIPTION:
URL:https://carolinas.pga.com/event/harrahs-cherokee-casino-resort-cpga-pro-am/
LOCATION:Sequoyah National Golf Club\, 79 Cahons Road\, Whittier\, North Carolina\, 28789\, United States
CATEGORIES:Major & Section,Majors,Pro-Am
ATTACH;FMTTYPE=image/png:https://carolinas.pga.com/wp-content/uploads/sites/3/2019/02/Harrahs-Logo.png
GEO:35.432725;-83.3357859
X-APPLE-STRUCTURED-LOCATION;VALUE=URI;X-ADDRESS=Sequoyah National Golf Club 79 Cahons Road Whittier North Carolina 28789 United States;X-APPLE-RADIUS=500;X-TITLE=79 Cahons Road:geo:-83.3357859,35.432725
END:VEVENT
BEGIN:VEVENT
DTSTART;VALUE=DATE:20200921
DTEND;VALUE=DATE:20200922
DTSTAMP:20260424T074120
CREATED:20200102T195410Z
LAST-MODIFIED:20240718T075849Z
UID:10000215-1600646400-1600732799@carolinas.pga.com
SUMMARY:CPGA Women's Pro-Pro Championship
DESCRIPTION:
URL:https://carolinas.pga.com/event/cpga-womens-pro-pro-championship/
LOCATION:Grande Dunes Resort Club\, 8700 Golf Village Ln\, Myrtle Beach\, South Carolina\, 29579\, United States
CATEGORIES:Major & Section,Majors
GEO:33.7699141;-78.8180545
X-APPLE-STRUCTURED-LOCATION;VALUE=URI;X-ADDRESS=Grande Dunes Resort Club 8700 Golf Village Ln Myrtle Beach South Carolina 29579 United States;X-APPLE-RADIUS=500;X-TITLE=8700 Golf Village Ln:geo:-78.8180545,33.7699141
END:VEVENT
BEGIN:VEVENT
DTSTART;VALUE=DATE:20200914
DTEND;VALUE=DATE:20200916
DTSTAMP:20260424T074120
CREATED:20200102T183144Z
LAST-MODIFIED:20240718T075535Z
UID:10000200-1600041600-1600214399@carolinas.pga.com
SUMMARY:69th PlayGolfMyrtleBeach.com SC Open
DESCRIPTION:
URL:https://carolinas.pga.com/event/69th-playgolfmyrtlebeach-com-sc-open/
LOCATION:The Reserve GC\, 18 Reserve Dr\, Pawleys Island\, SC\, 29585\, United States
CATEGORIES:Major & Section,Majors
GEO:33.4946733;-79.1148713
X-APPLE-STRUCTURED-LOCATION;VALUE=URI;X-ADDRESS=The Reserve GC 18 Reserve Dr Pawleys Island SC 29585 United States;X-APPLE-RADIUS=500;X-TITLE=18 Reserve Dr:geo:-79.1148713,33.4946733
END:VEVENT
BEGIN:VEVENT
DTSTART;VALUE=DATE:20200909
DTEND;VALUE=DATE:20200910
DTSTAMP:20260424T074120
CREATED:20200102T194728Z
LAST-MODIFIED:20240718T075759Z
UID:10000211-1599609600-1599695999@carolinas.pga.com
SUMMARY:Club Car CPGA Pro-Official Championship
DESCRIPTION:
URL:https://carolinas.pga.com/event/club-car-cpga-pro-official-championship/
LOCATION:Country Club of North Carolina\, 1600 Morganton Rd\, Pinehurst\,\, NC\, 28374\, United States
CATEGORIES:Major & Section,Majors
GEO:35.1764718;-79.4405786
X-APPLE-STRUCTURED-LOCATION;VALUE=URI;X-ADDRESS=Country Club of North Carolina 1600 Morganton Rd Pinehurst NC 28374 United States;X-APPLE-RADIUS=500;X-TITLE=1600 Morganton Rd:geo:-79.4405786,35.1764718
END:VEVENT
BEGIN:VEVENT
DTSTART;VALUE=DATE:20200831
DTEND;VALUE=DATE:20200902
DTSTAMP:20260424T074120
CREATED:20200102T194358Z
LAST-MODIFIED:20240718T075743Z
UID:10000210-1598832000-1599004799@carolinas.pga.com
SUMMARY:Nat'l Car Rental CPGA Assistant Championship
DESCRIPTION:
URL:https://carolinas.pga.com/event/natl-car-rental-cpga-assistant-championship/
LOCATION:Country Club of North Carolina\, 1600 Morganton Rd\, Pinehurst\,\, NC\, 28374\, United States
CATEGORIES:Major & Section,Majors / Assistants' Assoc,Majors / Senior
GEO:35.1764718;-79.4405786
X-APPLE-STRUCTURED-LOCATION;VALUE=URI;X-ADDRESS=Country Club of North Carolina 1600 Morganton Rd Pinehurst NC 28374 United States;X-APPLE-RADIUS=500;X-TITLE=1600 Morganton Rd:geo:-79.4405786,35.1764718
END:VEVENT
BEGIN:VEVENT
DTSTART;VALUE=DATE:20200818
DTEND;VALUE=DATE:20200820
DTSTAMP:20260424T074120
CREATED:20200102T194216Z
LAST-MODIFIED:20240718T075730Z
UID:10000209-1597708800-1597881599@carolinas.pga.com
SUMMARY:96th BB&T Carolinas Open
DESCRIPTION:
URL:https://carolinas.pga.com/event/96th-bbt-carolinas-open/
LOCATION:Forsyth Country Club\, 3101 Country Club Road\, Winston-Salem\, North Carolina\, 27104\, United States
CATEGORIES:Major & Section,Majors
GEO:36.0991976;-80.29982
X-APPLE-STRUCTURED-LOCATION;VALUE=URI;X-ADDRESS=Forsyth Country Club 3101 Country Club Road Winston-Salem North Carolina 27104 United States;X-APPLE-RADIUS=500;X-TITLE=3101 Country Club Road:geo:-80.29982,36.0991976
END:VEVENT
BEGIN:VEVENT
DTSTART;VALUE=DATE:20200810
DTEND;VALUE=DATE:20200812
DTSTAMP:20260424T074120
CREATED:20200102T193810Z
LAST-MODIFIED:20240718T075718Z
UID:10000208-1597017600-1597190399@carolinas.pga.com
SUMMARY:Carolinas Senior PGA Professional Championship
DESCRIPTION:
URL:https://carolinas.pga.com/event/carolinas-senior-pga-professional-championship/
LOCATION:Pinehurst No. 7\, 14 Inverrary Rd\, Pinehurst\, NC\, 28374\, United States
CATEGORIES:Major & Section,Majors,Majors / Senior
GEO:35.1835887;-79.4490487
X-APPLE-STRUCTURED-LOCATION;VALUE=URI;X-ADDRESS=Pinehurst No. 7 14 Inverrary Rd Pinehurst NC 28374 United States;X-APPLE-RADIUS=500;X-TITLE=14 Inverrary Rd:geo:-79.4490487,35.1835887
END:VEVENT
BEGIN:VEVENT
DTSTART;VALUE=DATE:20200720
DTEND;VALUE=DATE:20200722
DTSTAMP:20260424T074120
CREATED:20200102T190256Z
LAST-MODIFIED:20240718T075641Z
UID:10000205-1595203200-1595375999@carolinas.pga.com
SUMMARY:CPGA South Carolina Senior Open
DESCRIPTION:
URL:https://carolinas.pga.com/event/cpga-south-carolina-senior-open/
LOCATION:The Reserve GC\, 18 Reserve Dr\, Pawleys Island\, SC\, 29585\, United States
CATEGORIES:Major & Section,Majors,Majors / Senior
GEO:33.4946733;-79.1148713
X-APPLE-STRUCTURED-LOCATION;VALUE=URI;X-ADDRESS=The Reserve GC 18 Reserve Dr Pawleys Island SC 29585 United States;X-APPLE-RADIUS=500;X-TITLE=18 Reserve Dr:geo:-79.1148713,33.4946733
END:VEVENT
BEGIN:VEVENT
DTSTART;VALUE=DATE:20200713
DTEND;VALUE=DATE:20200716
DTSTAMP:20260424T074120
CREATED:20200102T184905Z
LAST-MODIFIED:20240718T075621Z
UID:10000204-1594598400-1594857599@carolinas.pga.com
SUMMARY:CPGA Professional Championship
DESCRIPTION:
URL:https://carolinas.pga.com/event/cpga-professional-championship-2/
LOCATION:Daniel Island Club\, 600 Island Park Dr\, Daniel Island\, SC\, 29492\, United States
CATEGORIES:Major & Section,Majors
GEO:32.879284;-79.9046106
X-APPLE-STRUCTURED-LOCATION;VALUE=URI;X-ADDRESS=Daniel Island Club 600 Island Park Dr Daniel Island SC 29492 United States;X-APPLE-RADIUS=500;X-TITLE=600 Island Park Dr:geo:-79.9046106,32.879284
END:VEVENT
BEGIN:VEVENT
DTSTART;VALUE=DATE:20200622
DTEND;VALUE=DATE:20200624
DTSTAMP:20260424T074120
CREATED:20200102T184419Z
LAST-MODIFIED:20240718T075609Z
UID:10000203-1592784000-1592956799@carolinas.pga.com
SUMMARY:CPGA Pro-Assistant Championship
DESCRIPTION:
URL:https://carolinas.pga.com/event/cpga-pro-assistant-championship-2/
LOCATION:River Landing Country Club\, 116 Paddlewheel Dr.\, Wallace\, North Carolina\, 28466\, United States
CATEGORIES:Major & Section,Majors
GEO:34.759649;-77.945658
X-APPLE-STRUCTURED-LOCATION;VALUE=URI;X-ADDRESS=River Landing Country Club 116 Paddlewheel Dr. Wallace North Carolina 28466 United States;X-APPLE-RADIUS=500;X-TITLE=116 Paddlewheel Dr.:geo:-77.945658,34.759649
END:VEVENT
BEGIN:VEVENT
DTSTART;VALUE=DATE:20200608
DTEND;VALUE=DATE:20200610
DTSTAMP:20260424T074120
CREATED:20200102T184249Z
LAST-MODIFIED:20240718T075557Z
UID:10000202-1591574400-1591747199@carolinas.pga.com
SUMMARY:56th Mobipaid North Carolina Open
DESCRIPTION:
URL:https://carolinas.pga.com/event/56th-mobipaid-north-carolina-open/
LOCATION:The Club at Irish Creek\, 1196 Fairway Dr\, Kannapolis\, North Carolina\, 28081\, United States
CATEGORIES:Major & Section,Majors
GEO:35.5289067;-80.6380245
X-APPLE-STRUCTURED-LOCATION;VALUE=URI;X-ADDRESS=The Club at Irish Creek 1196 Fairway Dr Kannapolis North Carolina 28081 United States;X-APPLE-RADIUS=500;X-TITLE=1196 Fairway Dr:geo:-80.6380245,35.5289067
END:VEVENT
BEGIN:VEVENT
DTSTART;VALUE=DATE:20200420
DTEND;VALUE=DATE:20200422
DTSTAMP:20260424T074120
CREATED:20200102T182319Z
LAST-MODIFIED:20240718T075524Z
UID:10000199-1587340800-1587513599@carolinas.pga.com
SUMMARY:CPGA Carolinas Senior Open - POSTPONED
DESCRIPTION:
URL:https://carolinas.pga.com/event/cpga-carolinas-senior-open/
LOCATION:Greensboro Country Club  – Farm\, 5121 Hedrick Dr\, Greensboro\, North Carolina\, 27410\, United States
CATEGORIES:Major & Section,Majors
GEO:36.1548548;-79.8834314
X-APPLE-STRUCTURED-LOCATION;VALUE=URI;X-ADDRESS=Greensboro Country Club  – Farm 5121 Hedrick Dr Greensboro North Carolina 27410 United States;X-APPLE-RADIUS=500;X-TITLE=5121 Hedrick Dr:geo:-79.8834314,36.1548548
END:VEVENT
END:VCALENDAR