BEGIN:VCALENDAR
VERSION:2.0
PRODID:-//Carolinas PGA Section - ECPv6.15.20//NONSGML v1.0//EN
CALSCALE:GREGORIAN
METHOD:PUBLISH
X-ORIGINAL-URL:https://carolinas.pga.com
X-WR-CALDESC:Events for Carolinas PGA Section
REFRESH-INTERVAL;VALUE=DURATION:PT1H
X-Robots-Tag:noindex
X-PUBLISHED-TTL:PT1H
BEGIN:VTIMEZONE
TZID:UTC
BEGIN:STANDARD
TZOFFSETFROM:+0000
TZOFFSETTO:+0000
TZNAME:UTC
DTSTART:20180101T000000
END:STANDARD
END:VTIMEZONE
BEGIN:VEVENT
DTSTART;VALUE=DATE:20220711
DTEND;VALUE=DATE:20220713
DTSTAMP:20260422T041421
CREATED:20220209T211354Z
LAST-MODIFIED:20240718T085010Z
UID:10000475-1657497600-1657670399@carolinas.pga.com
SUMMARY:CPGA Girls Junior Championship
DESCRIPTION:
URL:https://carolinas.pga.com/event/cpga-girls-junior-championship/
LOCATION:Raintree Country Club\, 8600 Raintree Lane\, Charlotte\, NC\, 28277
CATEGORIES:Junior,Junior Tournaments,Major & Section,Majors
ATTACH;FMTTYPE=image/png:https://carolinas.pga.com/wp-content/uploads/sites/3/2022/02/Raintree-CC-Square.png
GEO:35.086568;-80.787205
X-APPLE-STRUCTURED-LOCATION;VALUE=URI;X-ADDRESS=Raintree Country Club 8600 Raintree Lane Charlotte NC 28277;X-APPLE-RADIUS=500;X-TITLE=8600 Raintree Lane:geo:-80.787205,35.086568
END:VEVENT
BEGIN:VEVENT
DTSTART;VALUE=DATE:20220706
DTEND;VALUE=DATE:20220708
DTSTAMP:20260422T041421
CREATED:20220209T210925Z
LAST-MODIFIED:20240718T085000Z
UID:10000474-1657065600-1657238399@carolinas.pga.com
SUMMARY:CPGA Boys Junior Championship
DESCRIPTION:
URL:https://carolinas.pga.com/event/cpga-boys-junior-championship/
LOCATION:The Cardinal by Pete Dye\, 5700 Cardinal Way\, Greensboro\, North Carolina\, 27410
CATEGORIES:Junior,Junior Tournaments,Major & Section,Majors
ATTACH;FMTTYPE=image/jpeg:https://carolinas.pga.com/wp-content/uploads/sites/3/2022/02/Cardinal-by-Pete-Dye-Square.jpg
GEO:36.1322196;-79.9123645
X-APPLE-STRUCTURED-LOCATION;VALUE=URI;X-ADDRESS=The Cardinal by Pete Dye 5700 Cardinal Way Greensboro North Carolina 27410;X-APPLE-RADIUS=500;X-TITLE=5700 Cardinal Way:geo:-79.9123645,36.1322196
END:VEVENT
BEGIN:VEVENT
DTSTART;VALUE=DATE:20210706
DTEND;VALUE=DATE:20210708
DTSTAMP:20260422T041421
CREATED:20210514T134607Z
LAST-MODIFIED:20240718T083435Z
UID:10000403-1625529600-1625702399@carolinas.pga.com
SUMMARY:2021 Carolinas Junior Girls PGA Championship
DESCRIPTION:
URL:https://carolinas.pga.com/event/2020-carolinas-junior-girls-pga-championship-2/
LOCATION:Maple Chase Golf & Country Club\, 5475 Germanton Rd\, Winston Salem\, North Carolina\, 27105-1618\, United States
CATEGORIES:Junior,Junior Tournaments
GEO:36.18476;-80.2496
X-APPLE-STRUCTURED-LOCATION;VALUE=URI;X-ADDRESS=Maple Chase Golf & Country Club 5475 Germanton Rd Winston Salem North Carolina 27105-1618 United States;X-APPLE-RADIUS=500;X-TITLE=5475 Germanton Rd:geo:-80.2496,36.18476
END:VEVENT
BEGIN:VEVENT
DTSTART;VALUE=DATE:20210628
DTEND;VALUE=DATE:20210630
DTSTAMP:20260422T041421
CREATED:20210104T163257Z
LAST-MODIFIED:20240718T081805Z
UID:10000312-1624838400-1625011199@carolinas.pga.com
SUMMARY:2021 Carolinas Junior Boys PGA Championship
DESCRIPTION:Tournament Information Coming Soon!
URL:https://carolinas.pga.com/event/2021-carolinas-junior-boys-pga-championship/
LOCATION:The Cardinal by Pete Dye\, 5700 Cardinal Way\, Greensboro\, North Carolina\, 27410
CATEGORIES:Junior,Junior Tournaments
GEO:36.1322196;-79.9123645
X-APPLE-STRUCTURED-LOCATION;VALUE=URI;X-ADDRESS=The Cardinal by Pete Dye 5700 Cardinal Way Greensboro North Carolina 27410;X-APPLE-RADIUS=500;X-TITLE=5700 Cardinal Way:geo:-79.9123645,36.1322196
END:VEVENT
BEGIN:VEVENT
DTSTART;VALUE=DATE:20200629
DTEND;VALUE=DATE:20200701
DTSTAMP:20260422T041421
CREATED:20200109T130846Z
LAST-MODIFIED:20240718T075932Z
UID:10000218-1593388800-1593561599@carolinas.pga.com
SUMMARY:2020 Carolinas Junior PGA Championship
DESCRIPTION:
URL:https://carolinas.pga.com/event/2020-carolinas-junior-boys-pga-championship/
LOCATION:Starmount Forest CC\, 6087 1 Sam Snead Dr\, Greensboro\, NC\, 27410\, United States
CATEGORIES:Junior,Junior Tournaments
GEO:36.0772613;-79.8514503
X-APPLE-STRUCTURED-LOCATION;VALUE=URI;X-ADDRESS=Starmount Forest CC 6087 1 Sam Snead Dr Greensboro NC 27410 United States;X-APPLE-RADIUS=500;X-TITLE=6087 1 Sam Snead Dr:geo:-79.8514503,36.0772613
END:VEVENT
BEGIN:VEVENT
DTSTART;VALUE=DATE:20191214
DTEND;VALUE=DATE:20191216
DTSTAMP:20260422T041421
CREATED:20190619T184827Z
LAST-MODIFIED:20240718T074435Z
UID:10000152-1576281600-1576454399@carolinas.pga.com
SUMMARY:Charles Tilghman Junior
DESCRIPTION:Click Here for Tournament Information and Registration
URL:https://carolinas.pga.com/event/charles-tilghman-junior/
LOCATION:Surf Golf and Beach Club\, 1701 Springland Lane\, North Myrtle Beach\, South Carolina\, 29582\, United States
CATEGORIES:Junior,Junior Tournaments
GEO:33.8292144;-78.6532532
X-APPLE-STRUCTURED-LOCATION;VALUE=URI;X-ADDRESS=Surf Golf and Beach Club 1701 Springland Lane North Myrtle Beach South Carolina 29582 United States;X-APPLE-RADIUS=500;X-TITLE=1701 Springland Lane:geo:-78.6532532,33.8292144
END:VEVENT
BEGIN:VEVENT
DTSTART;VALUE=DATE:20190618
DTEND;VALUE=DATE:20190620
DTSTAMP:20260422T041421
CREATED:20190208T162403Z
LAST-MODIFIED:20240718T072417Z
UID:10000067-1560816000-1560988799@carolinas.pga.com
SUMMARY:2019 Carolinas Junior PGA Championship
DESCRIPTION:
URL:https://carolinas.pga.com/event/2018-carolinas-junior-pga-championship/
LOCATION:The Club at Irish Creek\, 1196 Fairway Dr\, Kannapolis\, North Carolina\, 28081\, United States
CATEGORIES:Junior,Junior Tournaments
GEO:35.5289067;-80.6380245
X-APPLE-STRUCTURED-LOCATION;VALUE=URI;X-ADDRESS=The Club at Irish Creek 1196 Fairway Dr Kannapolis North Carolina 28081 United States;X-APPLE-RADIUS=500;X-TITLE=1196 Fairway Dr:geo:-80.6380245,35.5289067
END:VEVENT
END:VCALENDAR