BEGIN:VCALENDAR
VERSION:2.0
PRODID:-//Carolinas PGA Section - ECPv6.15.20//NONSGML v1.0//EN
CALSCALE:GREGORIAN
METHOD:PUBLISH
X-ORIGINAL-URL:https://carolinas.pga.com
X-WR-CALDESC:Events for Carolinas PGA Section
REFRESH-INTERVAL;VALUE=DURATION:PT1H
X-Robots-Tag:noindex
X-PUBLISHED-TTL:PT1H
BEGIN:VTIMEZONE
TZID:UTC
BEGIN:STANDARD
TZOFFSETFROM:+0000
TZOFFSETTO:+0000
TZNAME:UTC
DTSTART:20250101T000000
END:STANDARD
END:VTIMEZONE
BEGIN:VEVENT
DTSTART;VALUE=DATE:20260310
DTEND;VALUE=DATE:20260311
DTSTAMP:20260421T031710
CREATED:20260120T190539Z
LAST-MODIFIED:20260120T191627Z
UID:10000831-1773100800-1773187199@carolinas.pga.com
SUMMARY:Cannon Invitational - Links at Stono Ferry
DESCRIPTION:Tuesday\, March 10\, 2026\nThe Links at Stono Ferry – Hollywood\, SC\nLimited to the first 25 Teams \nEntry Fee: $150 per player/$120 Stono Ferry Member \nStarting Time: 10:00 AM Shotgun \n# of Amateurs To Bring: 3 \nFormat: Combined Net Stableford for Main Event \nHost Professional: Pete Skirpstas\npskirpstas@stonoferrygolf.com\n330-635-0945 \nTournament Flier\nCannon Invitational 2026 \n \n 
URL:https://carolinas.pga.com/event/cannon-invitational-links-at-stono-ferry-2/
LOCATION:The Links at Stono Ferry\, Hollywood\, South Carolina
CATEGORIES:Pro-Am
ATTACH;FMTTYPE=image/jpeg:https://carolinas.pga.com/wp-content/uploads/sites/3/2025/06/305458034_493924486072940_730761728017335060_n-e1768935570249.jpg
GEO:32.7345203;-80.2412684
END:VEVENT
END:VCALENDAR