BEGIN:VCALENDAR
VERSION:2.0
PRODID:-//Carolinas PGA Section - ECPv6.15.20//NONSGML v1.0//EN
CALSCALE:GREGORIAN
METHOD:PUBLISH
X-WR-CALNAME:Carolinas PGA Section
X-ORIGINAL-URL:https://carolinas.pga.com
X-WR-CALDESC:Events for Carolinas PGA Section
REFRESH-INTERVAL;VALUE=DURATION:PT1H
X-Robots-Tag:noindex
X-PUBLISHED-TTL:PT1H
BEGIN:VTIMEZONE
TZID:UTC
BEGIN:STANDARD
TZOFFSETFROM:+0000
TZOFFSETTO:+0000
TZNAME:UTC
DTSTART:20230101T000000
END:STANDARD
END:VTIMEZONE
BEGIN:VEVENT
DTSTART;VALUE=DATE:20241112
DTEND;VALUE=DATE:20241113
DTSTAMP:20260422T214733
CREATED:20240205T165405Z
LAST-MODIFIED:20240718T091829Z
UID:10000613-1731369600-1731455999@carolinas.pga.com
SUMMARY:SCGA Lathrop Cup
DESCRIPTION:
URL:https://carolinas.pga.com/event/scga-lathrop-cup-3/
LOCATION:Musgrove Mill Golf Club\, 772 Musgrove Mill Drive\, Clinton\, SC\, 29325\, United States
CATEGORIES:Pro-Am
ATTACH;FMTTYPE=image/png:https://carolinas.pga.com/wp-content/uploads/sites/3/2019/03/SCGA.png
GEO:34.4830355;-81.8740079
X-APPLE-STRUCTURED-LOCATION;VALUE=URI;X-ADDRESS=Musgrove Mill Golf Club 772 Musgrove Mill Drive Clinton SC 29325 United States;X-APPLE-RADIUS=500;X-TITLE=772 Musgrove Mill Drive:geo:-81.8740079,34.4830355
END:VEVENT
BEGIN:VEVENT
DTSTART;VALUE=DATE:20241112
DTEND;VALUE=DATE:20241113
DTSTAMP:20260422T214733
CREATED:20240129T191716Z
LAST-MODIFIED:20240718T091800Z
UID:10000610-1731369600-1731455999@carolinas.pga.com
SUMMARY:Emory Stafford/PGA Reach Memorial Pro-Am
DESCRIPTION:Tuesday\, November 12th\, 2024\nSea Scape Golf Links – Kitty Hawk\, NC\nEntry Fee: $125 for Professionals\, $125 for Amateurs \nAmenities Included: Greens Fees\, Cart Fees\, Prizes\, Awards and Lunch \nStarting Time: 10:00 AM Shotgun \n# of Amateurs To Bring: 3 \nFormat: One best ball gross + one best ball net\, Professional sweeps \nHost Professional: Dan O’Boyle\, PGA.\nPhone: 252-261-2158\nEmail: danoboylepga@gmail.com
URL:https://carolinas.pga.com/event/emory-stafford-pga-reach-memorial-pro-am/
LOCATION:Sea Scape Golf Links\, 300 W Eckner St\, Kitty Hawk\, North Carolina\, 27949
CATEGORIES:Pro-Am
ATTACH;FMTTYPE=image/png:https://carolinas.pga.com/wp-content/uploads/sites/3/2019/02/Sea-Scape.png
GEO:36.0834633;-75.7078909
X-APPLE-STRUCTURED-LOCATION;VALUE=URI;X-ADDRESS=Sea Scape Golf Links 300 W Eckner St Kitty Hawk North Carolina 27949;X-APPLE-RADIUS=500;X-TITLE=300 W Eckner St:geo:-75.7078909,36.0834633
END:VEVENT
END:VCALENDAR