BEGIN:VCALENDAR
VERSION:2.0
PRODID:-//Carolinas PGA Section - ECPv6.15.20//NONSGML v1.0//EN
CALSCALE:GREGORIAN
METHOD:PUBLISH
X-ORIGINAL-URL:https://carolinas.pga.com
X-WR-CALDESC:Events for Carolinas PGA Section
REFRESH-INTERVAL;VALUE=DURATION:PT1H
X-Robots-Tag:noindex
X-PUBLISHED-TTL:PT1H
BEGIN:VTIMEZONE
TZID:UTC
BEGIN:STANDARD
TZOFFSETFROM:+0000
TZOFFSETTO:+0000
TZNAME:UTC
DTSTART:20230101T000000
END:STANDARD
END:VTIMEZONE
BEGIN:VEVENT
DTSTART;VALUE=DATE:20241007
DTEND;VALUE=DATE:20241008
DTSTAMP:20260423T160410
CREATED:20240321T143632Z
LAST-MODIFIED:20240718T091948Z
UID:10000621-1728259200-1728345599@carolinas.pga.com
SUMMARY:High Meadows Golf & CC Pro-Am
DESCRIPTION:Monday\, October 7\, 2024\nHigh Meadows CC – Roaring Gap\, NC\nEntry Fee: $100 for Professionals\, $125 for Amateurs \nAmenities Included: Golf\, Lunch\, Range Balls\, & Prizes \nStarting Time: 10:00 AM Shotgun \n# of Amateurs To Bring: 2 \nFormat: 1 Best Ball Gross Plus 1 Best Ball Net \nHost Professional: Tommy Gibson\, PGA.\nPhone: (336) 363-2622\ntgibson@highmeadowscountryclub.com
URL:https://carolinas.pga.com/event/high-meadows-golf-cc-pro-am/
LOCATION:High Meadows\, 1288 Country Club Rd\, Roaring Gap\, North Carolina\, 28668
CATEGORIES:Pro-Am
ATTACH;FMTTYPE=image/jpeg:https://carolinas.pga.com/wp-content/uploads/sites/3/2021/05/High-Meadows-GCC-Logo.jpg
GEO:36.4051412;-80.9978191
X-APPLE-STRUCTURED-LOCATION;VALUE=URI;X-ADDRESS=High Meadows 1288 Country Club Rd Roaring Gap North Carolina 28668;X-APPLE-RADIUS=500;X-TITLE=1288 Country Club Rd:geo:-80.9978191,36.4051412
END:VEVENT
END:VCALENDAR